Workbook

Sheet 第１－２表
A1: 第１－２表 都道府県別養成施設 | N1: (学校群別・修業期間別)入学定員数
W2: 令和８年度
A3: 地区 | B3: 都道府県 | C3: 計 | D3: 学校群別・修業期間別 | Y3: 都道府県 | Z3: 地区
D4: 専修学校 | P4: 各種学校 | S4: 高等 学校 | T4: 短大･ 専攻科 ・別科 | U4: 短期 大学 | V4: 大学 | W4: その他
D5: 専門課程 | H5: 高等課程 | L5: 一般課程
D6: １年 | E6: １.５年 | F6: ２年 | G6: ３年 | H6: １年 | I6: １.５年 | J6: ２年 | K6: ３年 | L6: １年 | M6: １.５年 | N6: ２年 | O6: ３年 | P6: １年 | Q6: １.５年 | R6: ２年 | S6: ３年 | T6: １年 | U6: ２年 | V6: ４年 | W6: １年 | X6: ２年
A7: 北海道 | Z7: 北海道
B8: 北海道 | C8: =養成施設データ!D20 -> 816 | D8: =養成施設データ!E20 -> 240 | E8: =養成施設データ!F20 -> 0 | F8: =養成施設データ!G20 -> 370 | G8: =養成施設データ!H20 -> 0 | H8: =養成施設データ!I20 -> 0 | I8: =養成施設データ!J20 -> 0 | J8: =養成施設データ!K20 -> 0 | ... U8: =養成施設データ!V20 -> 0 | V8: 0 | W8: =養成施設データ!X20 -> 0 | X8: =養成施設データ!Y20 -> 0 | Y8: 北海道
B9: 小計 | C9: =SUM(C8) -> 816 | D9: =SUM(D8) -> 240 | E9: =SUM(E8) -> 0 | F9: =SUM(F8) -> 370 | G9: =SUM(G8) -> 0 | H9: =SUM(H8) -> 0 | I9: =SUM(I8) -> 0 | J9: =SUM(J8) -> 0 | ... T9: =SUM(T8) -> 0 | U9: 0 | V9: =SUM(V8) -> 0 | W9: =SUM(W8) -> 0 | X9: =SUM(X8) -> 0 | Y9: 小計
A10: 東北 | B10: 青森 | C10: =養成施設データ!D30 -> 215 | D10: =養成施設データ!E30 -> 0 | E10: =養成施設データ!F30 -> 0 | F10: =養成施設データ!G30 -> 0 | G10: =養成施設データ!H30 -> 0 | H10: =養成施設データ!I30 -> 0 | I10: =養成施設データ!J30 -> 0 | J10: =養成施設データ!K30 -> 0 | ... U10: =養成施設データ!V30 -> 0 | V10: 0 | W10: =養成施設データ!X30 -> 0 | X10: =養成施設データ!Y30 -> 0 | Y10: 青森 | Z10: 東北
B11: 岩手 | C11: =養成施設データ!D39 -> 424 | D11: =養成施設データ!E39 -> 39 | E11: =養成施設データ!F39 -> 0 | F11: =養成施設データ!G39 -> 100 | G11: =養成施設データ!H39 -> 0 | H11: =養成施設データ!I39 -> 0 | I11: =養成施設データ!J39 -> 0 | J11: =養成施設データ!K39 -> 0 | ... U11: =養成施設データ!V39 -> 0 | V11: 0 | W11: =養成施設データ!X39 -> 0 | X11: =養成施設データ!Y39 -> 0 | Y11: 岩手
B12: 宮城 | C12: =養成施設データ!D45 -> 455 | D12: =養成施設データ!E45 -> 70 | E12: =養成施設データ!F45 -> 0 | F12: =養成施設データ!G45 -> 200 | G12: =養成施設データ!H45 -> 0 | H12: =養成施設データ!I45 -> 40 | I12: =養成施設データ!J45 -> 0 | J12: =養成施設データ!K45 -> 0 | ... U12: =養成施設データ!V45 -> 0 | V12: 0 | W12: =養成施設データ!X45 -> 0 | X12: =養成施設データ!Y45 -> 0 | Y12: 宮城
B13: 秋田 | C13: =養成施設データ!D47 -> 40 | D13: =養成施設データ!E47 -> 0 | E13: =養成施設データ!F47 -> 0 | F13: =養成施設データ!G47 -> 0 | G13: =養成施設データ!H47 -> 0 | H13: =養成施設データ!I47 -> 0 | I13: =養成施設データ!J47 -> 0 | J13: =養成施設データ!K47 -> 0 | ... U13: =養成施設データ!V47 -> 0 | V13: 0 | W13: =養成施設データ!X47 -> 0 | X13: =養成施設データ!Y47 -> 0 | Y13: 秋田
B14: 山形 | C14: =養成施設データ!D53 -> 320 | D14: =養成施設データ!E53 -> 56 | E14: =養成施設データ!F53 -> 0 | F14: =養成施設データ!G53 -> 76 | G14: =養成施設データ!H53 -> 0 | H14: =養成施設データ!I53 -> 0 | I14: =養成施設データ!J53 -> 0 | J14: =養成施設データ!K53 -> 0 | ... U14: =養成施設データ!V53 -> 0 | V14: 0 | W14: =養成施設データ!X53 -> 0 | X14: =養成施設データ!Y53 -> 0 | Y14: 山形
B15: 福島 | C15: =養成施設データ!D58 -> 190 | D15: =養成施設データ!E58 -> 40 | E15: =養成施設データ!F58 -> 0 | F15: =養成施設データ!G58 -> 70 | G15: =養成施設データ!H58 -> 0 | H15: =養成施設データ!I58 -> 0 | I15: =養成施設データ!J58 -> 0 | J15: =養成施設データ!K58 -> 0 | ... U15: =養成施設データ!V58 -> 0 | V15: 0 | W15: =養成施設データ!X58 -> 0 | X15: =養成施設データ!Y58 -> 0 | Y15: 福島
B16: 小計 | C16: =SUM(C10:C15) -> 1644 | D16: =SUM(D10:D15) -> 205 | E16: =SUM(E10:E15) -> 0 | F16: =SUM(F10:F15) -> 446 | G16: =SUM(G10:G15) -> 0 | H16: =SUM(H10:H15) -> 40 | I16: =SUM(I10:I15) -> 0 | J16: =SUM(J10:J15) -> 0 | ... X16: =SUM(X10:X15) -> 0 | Y16: 小計
A17: 関東甲信越 | B17: 茨城 | C17: =養成施設データ!D65 -> 400 | D17: =養成施設データ!E65 -> 80 | E17: =養成施設データ!F65 -> 0 | F17: =養成施設データ!G65 -> 180 | G17: =養成施設データ!H65 -> 0 | H17: =養成施設データ!I65 -> 100 | I17: =養成施設データ!J65 -> 0 | J17: =養成施設データ!K65 -> 0 | ... U17: =養成施設データ!V65 -> 0 | V17: 0 | W17: =養成施設データ!X65 -> 0 | X17: =養成施設データ!Y65 -> 0 | Y17: 茨城 | Z17: 関東甲信越
B18: 栃木 | C18: =養成施設データ!D72 -> 445 | D18: =養成施設データ!E72 -> 100 | E18: =養成施設データ!F72 -> 0 | F18: =養成施設データ!G72 -> 135 | G18: =養成施設データ!H72 -> 0 | H18: =養成施設データ!I72 -> 0 | I18: =養成施設データ!J72 -> 0 | J18: =養成施設データ!K72 -> 0 | ... U18: =養成施設データ!V72 -> 0 | V18: 0 | W18: =養成施設データ!X72 -> 0 | X18: =養成施設データ!Y72 -> 0 | Y18: 栃木
B19: 群馬 | C19: =養成施設データ!D77 -> 360 | D19: =養成施設データ!E77 -> 120 | E19: =養成施設データ!F77 -> 0 | F19: =養成施設データ!G77 -> 160 | G19: =養成施設データ!H77 -> 0 | H19: =養成施設データ!I77 -> 0 | I19: =養成施設データ!J77 -> 0 | J19: =養成施設データ!K77 -> 40 | ... U19: =養成施設データ!V77 -> 0 | V19: 0 | W19: =養成施設データ!X77 -> 0 | X19: =養成施設データ!Y77 -> 0 | Y19: 群馬
B20: 埼玉 | C20: =養成施設データ!D88 -> 780 | D20: =養成施設データ!E88 -> 160 | E20: =養成施設データ!F88 -> 20 | F20: =養成施設データ!G88 -> 160 | G20: =養成施設データ!H88 -> 0 | H20: =養成施設データ!I88 -> 0 | I20: =養成施設データ!J88 -> 0 | J20: =養成施設データ!K88 -> 0 | ... U20: =養成施設データ!V88 -> 40 | V20: 0 | W20: =養成施設データ!X88 -> 0 | X20: =養成施設データ!Y88 -> 0 | Y20: 埼玉
B21: 千葉 | C21: =養成施設データ!D96 -> 630 | D21: =養成施設データ!E96 -> 160 | E21: =養成施設データ!F96 -> 70 | F21: =養成施設データ!G96 -> 160 | G21: =養成施設データ!H96 -> 0 | H21: =養成施設データ!I96 -> 0 | I21: =養成施設データ!J96 -> 0 | J21: =養成施設データ!K96 -> 0 | ... U21: =養成施設データ!V96 -> 0 | V21: 0 | W21: =養成施設データ!X96 -> 0 | X21: =養成施設データ!Y96 -> 0 | Y21: 千葉
B22: 神奈川 | C22: =養成施設データ!D103 -> 600 | D22: =養成施設データ!E103 -> 190 | E22: =養成施設データ!F103 -> 0 | F22: =養成施設データ!G103 -> 110 | G22: =養成施設データ!H103 -> 0 | H22: =養成施設データ!I103 -> 100 | I22: =養成施設データ!J103 -> 80 | J22: =養成施設データ!K103 -> 0 | ... U22: =養成施設データ!V103 -> 0 | V22: 0 | W22: =養成施設データ!X103 -> 0 | X22: =養成施設データ!Y103 -> 0 | Y22: 神奈川
B23: 新潟 | C23: =養成施設データ!D111 -> 665 | D23: =養成施設データ!E111 -> 190 | E23: =養成施設データ!F111 -> 0 | F23: =養成施設データ!G111 -> 430 | G23: =養成施設データ!H111 -> 0 | H23: =養成施設データ!I111 -> 5 | I23: =養成施設データ!J111 -> 0 | J23: =養成施設データ!K111 -> 0 | ... U23: =養成施設データ!V111 -> 0 | V23: 0 | W23: =養成施設データ!X111 -> 0 | X23: =養成施設データ!Y111 -> 0 | Y23: 新潟
B24: 山梨 | C24: =養成施設データ!D113 -> 60 | D24: =養成施設データ!E113 -> 30 | E24: =養成施設データ!F113 -> 0 | F24: =養成施設データ!G113 -> 30 | G24: =養成施設データ!H113 -> 0 | H24: =養成施設データ!I113 -> 0 | I24: =養成施設データ!J113 -> 0 | J24: =養成施設データ!K113 -> 0 | ... U24: =養成施設データ!V113 -> 0 | V24: 0 | W24: =養成施設データ!X113 -> 0 | X24: =養成施設データ!Y113 -> 0 | Y24: 山梨
B25: 長野 | C25: =養成施設データ!D117 -> 330 | D25: =養成施設データ!E117 -> 120 | E25: =養成施設データ!F117 -> 0 | F25: =養成施設データ!G117 -> 130 | G25: =養成施設データ!H117 -> 0 | H25: =養成施設データ!I117 -> 0 | I25: =養成施設データ!J117 -> 0 | J25: =養成施設データ!K117 -> 0 | ... U25: =養成施設データ!V117 -> 0 | V25: 0 | W25: =養成施設データ!X117 -> 0 | X25: =養成施設データ!Y117 -> 0 | Y25: 長野
B26: 小計 | C26: =SUM(C17:C25) -> 4270 | D26: =SUM(D17:D25) -> 1150 | E26: =SUM(E17:E25) -> 90 | F26: =SUM(F17:F25) -> 1495 | G26: =SUM(G17:G25) -> 0 | H26: =SUM(H17:H25) -> 205 | I26: =SUM(I17:I25) -> 80 | J26: =SUM(J17:J25) -> 40 | ... X26: =SUM(X17:X25) -> 0 | Y26: 小計
A27: 東京 | B27: 東京 | C27: =養成施設データ!D152 -> 4261 | D27: =養成施設データ!E152 -> 1270 | E27: =養成施設データ!F152 -> 200 | F27: =養成施設データ!G152 -> 1717 | G27: =養成施設データ!H152 -> 60 | H27: =養成施設データ!I152 -> 94 | I27: =養成施設データ!J152 -> 208 | J27: =養成施設データ!K152 -> 40 | ... U27: =養成施設データ!V152 -> 0 | V27: 0 | W27: =養成施設データ!X152 -> 40 | X27: =養成施設データ!Y152 -> 0 | Y27: 東京 | Z27: 東京
B28: 小計 | C28: =SUM(C27) -> 4261 | D28: =SUM(D27) -> 1270 | E28: =SUM(E27) -> 200 | F28: =SUM(F27) -> 1717 | G28: =SUM(G27) -> 60 | H28: =SUM(H27) -> 94 | I28: =SUM(I27) -> 208 | J28: =SUM(J27) -> 40 | ... X28: =SUM(X27) -> 0 | Y28: 小計
A29: 東海北陸 | B29: 富山 | C29: =養成施設データ!D159 -> 120 | D29: =養成施設データ!E159 -> 0 | E29: =養成施設データ!F159 -> 0 | F29: =養成施設データ!G159 -> 40 | G29: =養成施設データ!H159 -> 0 | H29: =養成施設データ!I159 -> 0 | I29: =養成施設データ!J159 -> 20 | J29: =養成施設データ!K159 -> 0 | ... U29: =養成施設データ!V159 -> 0 | V29: 0 | W29: =養成施設データ!X159 -> 0 | X29: =養成施設データ!Y159 -> 0 | Y29: 富山 | Z29: 東海北陸
B30: 石川 | C30: =養成施設データ!D164 -> 230 | D30: =養成施設データ!E164 -> 120 | E30: =養成施設データ!F164 -> 0 | F30: =養成施設データ!G164 -> 80 | G30: =養成施設データ!H164 -> 0 | H30: =養成施設データ!I164 -> 0 | I30: =養成施設データ!J164 -> 0 | J30: =養成施設データ!K164 -> 0 | ... U30: =養成施設データ!V164 -> 0 | V30: 0 | W30: =養成施設データ!X164 -> 0 | X30: =養成施設データ!Y164 -> 0 | Y30: 石川
B31: 福井 | C31: =養成施設データ!D169 -> 192 | D31: =養成施設データ!E169 -> 80 | E31: =養成施設データ!F169 -> 0 | F31: =養成施設データ!G169 -> 0 | G31: =養成施設データ!H169 -> 0 | H31: =養成施設データ!I169 -> 40 | I31: =養成施設データ!J169 -> 0 | J31: =養成施設データ!K169 -> 0 | ... U31: =養成施設データ!V169 -> 0 | V31: 0 | W31: =養成施設データ!X169 -> 0 | X31: =養成施設データ!Y169 -> 0 | Y31: 福井
B32: 岐阜 | C32: =養成施設データ!D174 -> 330 | D32: =養成施設データ!E174 -> 40 | E32: =養成施設データ!F174 -> 80 | F32: =養成施設データ!G174 -> 40 | G32: =養成施設データ!H174 -> 0 | H32: =養成施設データ!I174 -> 0 | I32: =養成施設データ!J174 -> 0 | J32: =養成施設データ!K174 -> 0 | ... U32: =養成施設データ!V174 -> 0 | V32: 0 | W32: =養成施設データ!X174 -> 0 | X32: =養成施設データ!Y174 -> 0 | Y32: 岐阜
B33: 静岡 | C33: =養成施設データ!D182 -> 570 | D33: =養成施設データ!E182 -> 140 | E33: =養成施設データ!F182 -> 0 | F33: =養成施設データ!G182 -> 300 | G33: =養成施設データ!H182 -> 0 | H33: =養成施設データ!I182 -> 40 | I33: =養成施設データ!J182 -> 0 | J33: =養成施設データ!K182 -> 0 | ... U33: =養成施設データ!V182 -> 0 | V33: 0 | W33: =養成施設データ!X182 -> 0 | X33: =養成施設データ!Y182 -> 0 | Y33: 静岡
B34: 愛知 | C34: =養成施設データ!D198 -> 1485 | D34: =養成施設データ!E198 -> 320 | E34: =養成施設データ!F198 -> 0 | F34: =養成施設データ!G198 -> 555 | G34: =養成施設データ!H198 -> 0 | H34: =養成施設データ!I198 -> 0 | I34: =養成施設データ!J198 -> 0 | J34: =養成施設データ!K198 -> 70 | ... U34: =養成施設データ!V198 -> 0 | V34: 0 | W34: =養成施設データ!X198 -> 0 | X34: =養成施設データ!Y198 -> 0 | Y34: 愛知
B35: 三重 | C35: =養成施設データ!D203 -> 200 | D35: =養成施設データ!E203 -> 70 | E35: =養成施設データ!F203 -> 0 | F35: =養成施設データ!G203 -> 70 | G35: =養成施設データ!H203 -> 0 | H35: =養成施設データ!I203 -> 40 | I35: =養成施設データ!J203 -> 0 | J35: =養成施設データ!K203 -> 0 | ... U35: =養成施設データ!V203 -> 0 | V35: 0 | W35: =養成施設データ!X203 -> 0 | X35: =養成施設データ!Y203 -> 0 | Y35: 三重
B36: 小計 | C36: =SUM(C29:C35) -> 3127 | D36: =SUM(D29:D35) -> 770 | E36: =SUM(E29:E35) -> 80 | F36: =SUM(F29:F35) -> 1085 | G36: =SUM(G29:G35) -> 0 | H36: =SUM(H29:H35) -> 120 | I36: =SUM(I29:I35) -> 20 | J36: =SUM(J29:J35) -> 70 | ... X36: =SUM(X29:X35) -> 0 | Y36: 小計
A37: 近畿中国四国 | B37: 滋賀 | C37: =養成施設データ!D209 -> 75 | D37: =養成施設データ!E209 -> 0 | E37: =養成施設データ!F209 -> 0 | F37: =養成施設データ!G209 -> 0 | G37: =養成施設データ!H209 -> 0 | H37: =養成施設データ!I209 -> 0 | I37: =養成施設データ!J209 -> 0 | J37: =養成施設データ!K209 -> 0 | ... V37: =養成施設データ!W209 -> 0 | W37: 0 | X37: =養成施設データ!X209 -> 0 | Y37: 滋賀 | Z37: 近畿中国四国
B38: 京都 | C38: =養成施設データ!D212 -> 390 | D38: =養成施設データ!E212 -> 120 | E38: =養成施設データ!F212 -> 0 | F38: =養成施設データ!G212 -> 150 | G38: =養成施設データ!H212 -> 0 | H38: =養成施設データ!I212 -> 0 | I38: =養成施設データ!J212 -> 40 | J38: =養成施設データ!K212 -> 0 | ... X38: =養成施設データ!Y212 -> 0 | Y38: 京都
B39: 大阪 | C39: =養成施設データ!D224 -> 1310 | D39: =養成施設データ!E224 -> 380 | E39: =養成施設データ!F224 -> 0 | F39: =養成施設データ!G224 -> 560 | G39: =養成施設データ!H224 -> 40 | H39: =養成施設データ!I224 -> 0 | I39: =養成施設データ!J224 -> 0 | J39: =養成施設データ!K224 -> 0 | ... X39: =養成施設データ!Y224 -> 0 | Y39: 大阪
B40: 兵庫 | C40: =養成施設データ!D231 -> 600 | D40: =養成施設データ!E231 -> 180 | E40: =養成施設データ!F231 -> 0 | F40: =養成施設データ!G231 -> 115 | G40: =養成施設データ!H231 -> 0 | H40: =養成施設データ!I231 -> 75 | I40: =養成施設データ!J231 -> 40 | J40: =養成施設データ!K231 -> 0 | ... X40: =養成施設データ!Y231 -> 0 | Y40: 兵庫
B41: 奈良 | C41: =養成施設データ!D234 -> 60 | D41: =養成施設データ!E234 -> 0 | E41: =養成施設データ!F234 -> 0 | F41: =養成施設データ!G234 -> 0 | G41: =養成施設データ!H234 -> 0 | H41: =養成施設データ!I234 -> 0 | I41: =養成施設データ!J234 -> 0 | J41: =養成施設データ!K234 -> 0 | ... V41: =養成施設データ!W234 -> 0 | W41: 0 | X41: =養成施設データ!X234 -> 40 | Y41: 奈良
B42: 和歌山 | C42: =養成施設データ!D236 -> 30 | D42: =養成施設データ!E236 -> 0 | E42: =養成施設データ!F236 -> 0 | F42: =養成施設データ!G236 -> 0 | G42: =養成施設データ!H236 -> 0 | H42: =養成施設データ!I236 -> 0 | I42: =養成施設データ!J236 -> 0 | J42: =養成施設データ!K236 -> 0 | ... X42: =養成施設データ!Y236 -> 0 | Y42: 和歌山
B43: 鳥取 | C43: =養成施設データ!D239 -> 50 | D43: =養成施設データ!E239 -> 0 | E43: =養成施設データ!F239 -> 0 | F43: =養成施設データ!G239 -> 0 | G43: =養成施設データ!H239 -> 0 | H43: =養成施設データ!I239 -> 0 | I43: =養成施設データ!J239 -> 0 | J43: =養成施設データ!K239 -> 0 | ... X43: =養成施設データ!Y239 -> 0 | Y43: 鳥取
B44: 島根 | C44: =養成施設データ!D241 -> 80 | D44: =養成施設データ!E241 -> 40 | E44: =養成施設データ!F241 -> 20 | F44: =養成施設データ!G241 -> 20 | G44: =養成施設データ!H241 -> 0 | H44: =養成施設データ!I241 -> 0 | I44: =養成施設データ!J241 -> 0 | J44: =養成施設データ!K241 -> 0 | ... X44: =養成施設データ!Y241 -> 0 | Y44: 島根
B45: 岡山 | C45: =養成施設データ!D246 -> 225 | D45: =養成施設データ!E246 -> 70 | E45: =養成施設データ!F246 -> 0 | F45: =養成施設データ!G246 -> 70 | G45: =養成施設データ!H246 -> 0 | H45: =養成施設データ!I246 -> 0 | I45: =養成施設データ!J246 -> 0 | J45: =養成施設データ!K246 -> 0 | ... X45: =養成施設データ!Y246 -> 0 | Y45: 岡山
B46: 広島 | C46: =養成施設データ!D252 -> 320 | D46: =養成施設データ!E252 -> 40 | E46: =養成施設データ!F252 -> 0 | F46: =養成施設データ!G252 -> 160 | G46: =養成施設データ!H252 -> 0 | H46: =養成施設データ!I252 -> 0 | I46: =養成施設データ!J252 -> 0 | J46: =養成施設データ!K252 -> 0 | ... X46: =養成施設データ!Y252 -> 0 | Y46: 広島
B47: 山口 | C47: =養成施設データ!D258 -> 263 | D47: =養成施設データ!E258 -> 40 | E47: =養成施設データ!F258 -> 0 | F47: =養成施設データ!G258 -> 40 | G47: =養成施設データ!H258 -> 0 | H47: =養成施設データ!I258 -> 0 | I47: =養成施設データ!J258 -> 0 | J47: =養成施設データ!K258 -> 0 | ... X47: =養成施設データ!Y258 -> 0 | Y47: 山口
B48: 徳島 | C48: =養成施設データ!D262 -> 100 | D48: =養成施設データ!E262 -> 0 | E48: =養成施設データ!F262 -> 0 | F48: =養成施設データ!G262 -> 30 | G48: =養成施設データ!H262 -> 0 | H48: =養成施設データ!I262 -> 0 | I48: =養成施設データ!J262 -> 0 | J48: =養成施設データ!K262 -> 0 | ... X48: =養成施設データ!Y262 -> 0 | Y48: 徳島
B49: 香川 | C49: =養成施設データ!D266 -> 192 | D49: =養成施設データ!E266 -> 0 | E49: =養成施設データ!F266 -> 0 | F49: =養成施設データ!G266 -> 40 | G49: =養成施設データ!H266 -> 0 | H49: =養成施設データ!I266 -> 20 | I49: =養成施設データ!J266 -> 20 | J49: =養成施設データ!K266 -> 0 | ... X49: =養成施設データ!Y266 -> 0 | Y49: 香川
B50: 愛媛 | C50: =養成施設データ!D272 -> 332 | D50: =養成施設データ!E272 -> 76 | E50: =養成施設データ!F272 -> 0 | F50: =養成施設データ!G272 -> 60 | G50: =養成施設データ!H272 -> 0 | H50: =養成施設データ!I272 -> 0 | I50: =養成施設データ!J272 -> 20 | J50: =養成施設データ!K272 -> 0 | ... X50: =養成施設データ!Y272 -> 0 | Y50: 愛媛
B51: 高知 | C51: =養成施設データ!D275 -> 150 | D51: =養成施設データ!E275 -> 105 | E51: =養成施設データ!F275 -> 0 | F51: =養成施設データ!G275 -> 40 | G51: =養成施設データ!H275 -> 0 | H51: =養成施設データ!I275 -> 5 | I51: =養成施設データ!J275 -> 0 | J51: =養成施設データ!K275 -> 0 | ... X51: =養成施設データ!Y275 -> 0 | Y51: 高知
B52: 小計 | C52: =SUM(C37:C51) -> 4177 | D52: =SUM(D37:D51) -> 1051 | E52: =SUM(E37:E51) -> 20 | F52: =SUM(F37:F51) -> 1285 | G52: =SUM(G37:G51) -> 40 | H52: =SUM(H37:H51) -> 100 | I52: =SUM(I37:I51) -> 120 | J52: =SUM(J37:J51) -> 0 | ... X52: =SUM(X37:X51) -> 40 | Y52: 小計
A53: 九州 | B53: 福岡 | C53: =養成施設データ!D292 -> 1310 | D53: =養成施設データ!E292 -> 160 | E53: =養成施設データ!F292 -> 120 | F53: =養成施設データ!G292 -> 340 | G53: =養成施設データ!H292 -> 0 | H53: =養成施設データ!I292 -> 40 | I53: =養成施設データ!J292 -> 0 | J53: =養成施設データ!K292 -> 0 | ... U53: =養成施設データ!V292 -> 20 | V53: 0 | W53: =養成施設データ!X292 -> 0 | X53: =養成施設データ!Y292 -> 0 | Y53: 福岡 | Z53: 九州
B54: 佐賀 | C54: =養成施設データ!D297 -> 240 | D54: =養成施設データ!E297 -> 40 | E54: =養成施設データ!F297 -> 40 | F54: =養成施設データ!G297 -> 0 | G54: =養成施設データ!H297 -> 0 | H54: =養成施設データ!I297 -> 0 | I54: =養成施設データ!J297 -> 0 | J54: =養成施設データ!K297 -> 0 | ... U54: =養成施設データ!V297 -> 0 | V54: 0 | W54: =養成施設データ!X297 -> 0 | X54: =養成施設データ!Y297 -> 0 | Y54: 佐賀
B55: 長崎 | C55: =養成施設データ!D302 -> 180 | D55: =養成施設データ!E302 -> 0 | E55: =養成施設データ!F302 -> 0 | F55: =養成施設データ!G302 -> 30 | G55: =養成施設データ!H302 -> 0 | H55: =養成施設データ!I302 -> 0 | I55: =養成施設データ!J302 -> 0 | J55: =養成施設データ!K302 -> 0 | ... U55: =養成施設データ!V302 -> 0 | V55: 0 | W55: =養成施設データ!X302 -> 0 | X55: =養成施設データ!Y302 -> 0 | Y55: 長崎
B56: 熊本 | C56: =養成施設データ!D308 -> 310 | D56: =養成施設データ!E308 -> 80 | E56: =養成施設データ!F308 -> 0 | F56: =養成施設データ!G308 -> 0 | G56: =養成施設データ!H308 -> 0 | H56: =養成施設データ!I308 -> 0 | I56: =養成施設データ!J308 -> 0 | J56: =養成施設データ!K308 -> 0 | ... U56: =養成施設データ!V308 -> 0 | V56: 0 | W56: =養成施設データ!X308 -> 0 | X56: =養成施設データ!Y308 -> 0 | Y56: 熊本
B57: 大分 | C57: =養成施設データ!D316 -> 356 | D57: =養成施設データ!E316 -> 45 | E57: =養成施設データ!F316 -> 0 | F57: =養成施設データ!G316 -> 15 | G57: =養成施設データ!H316 -> 0 | H57: =養成施設データ!I316 -> 20 | I57: =養成施設データ!J316 -> 20 | J57: =養成施設データ!K316 -> 0 | ... U57: =養成施設データ!V316 -> 0 | V57: 0 | W57: =養成施設データ!X316 -> 0 | X57: =養成施設データ!Y316 -> 0 | Y57: 大分
B58: 宮崎 | C58: =養成施設データ!D323 -> 500 | D58: =養成施設データ!E323 -> 40 | E58: =養成施設データ!F323 -> 0 | F58: =養成施設データ!G323 -> 40 | G58: =養成施設データ!H323 -> 0 | H58: =養成施設データ!I323 -> 0 | I58: =養成施設データ!J323 -> 0 | J58: =養成施設データ!K323 -> 0 | ... U58: =養成施設データ!V323 -> 0 | V58: 0 | W58: =養成施設データ!X323 -> 0 | X58: =養成施設データ!Y323 -> 0 | Y58: 宮崎
B59: 鹿児島 | C59: =養成施設データ!D329 -> 340 | D59: =養成施設データ!E329 -> 40 | E59: =養成施設データ!F329 -> 0 | F59: =養成施設データ!G329 -> 40 | G59: =養成施設データ!H329 -> 0 | H59: =養成施設データ!I329 -> 0 | I59: =養成施設データ!J329 -> 0 | J59: =養成施設データ!K329 -> 40 | ... U59: =養成施設データ!V329 -> 0 | V59: 0 | W59: =養成施設データ!X329 -> 0 | X59: =養成施設データ!Y329 -> 0 | Y59: 鹿児島
B60: 沖縄 | C60: =養成施設データ!D335 -> 388 | D60: =養成施設データ!E335 -> 110 | E60: =養成施設データ!F335 -> 0 | F60: =養成施設データ!G335 -> 119 | G60: =養成施設データ!H335 -> 0 | H60: =養成施設データ!I335 -> 39 | I60: =養成施設データ!J335 -> 40 | J60: =養成施設データ!K335 -> 0 | ... U60: =養成施設データ!V335 -> 0 | V60: 0 | W60: =養成施設データ!X335 -> 0 | X60: =養成施設データ!Y335 -> 0 | Y60: 沖縄
B61: 小計 | C61: =SUM(C53:C60) -> 3624 | D61: =SUM(D53:D60) -> 515 | E61: =SUM(E53:E60) -> 160 | F61: =SUM(F53:F60) -> 584 | G61: =SUM(G53:G60) -> 0 | H61: =SUM(H53:H60) -> 99 | I61: =SUM(I53:I60) -> 60 | J61: =SUM(J53:J60) -> 40 | ... X61: =SUM(X53:X60) -> 0 | Y61: 小計
A62: 合計 | C62: =C9+C16+C26+C28+C36+C52+C61 -> 21919 | D62: =D9+D16+D26+D28+D36+D52+D61 -> 5201 | E62: =E9+E16+E26+E28+E36+E52+E61 -> 550 | F62: =F9+F16+F26+F28+F36+F52+F61 -> 6982 | G62: =G9+G16+G26+G28+G36+G52+G61 -> 100 | H62: =H9+H16+H26+H28+H36+H52+H61 -> 658 | I62: =I9+I16+I26+I28+I36+I52+I61 -> 488 | J62: =J9+J16+J26+J28+J36+J52+J61 -> 190 | ... X62: =X9+X16+X26+X28+X36+X52+X61 -> 40 | Y62: 合計
A63: （％） | C63: 100 | D63: =ROUND(D62/$C62,3)*100 -> 23.7 | E63: =ROUND(E62/$C62,3)*100 -> 2.5 | F63: =ROUND(F62/$C62,3)*100 -> 31.9 | G63: =ROUND(G62/$C62,3)*100 -> 0.5 | H63: =ROUND(H62/$C62,3)*100 -> 3 | I63: =ROUND(I62/$C62,3)*100 -> 2.2 | J63: =ROUND(J62/$C62,3)*100 -> 0.9 | K63: =ROUND(K62/$C62,3)*100 -> 6 | ... X63: =ROUND(X62/$C62,3)*100 -> 0.2 | Y63: （％）
S64: 資料) 公益社団法人 全国調理師養成施設協会

Sheet 養成施設データ
C1: 都道府県別養成施設入学定員数
E2: 専修学校 | Q2: 各種学校 | T2: 高等学校 | U2: 短大 | V2: 短期大学 | W2: 大学 | X2: その他 | Z2: 学校群別 | AG2: 設置者別
E3: 専門課程 | I3: 高等課程 | M3: 一般課程 | U3: 別科 | Z3: 専修 | AA3: 各種 | AB3: 高等 | AC3: 短大 | AD3: 短期 | AE3: 大学 | AF3: その他 | AG3: 公立 | AH3: 学校 | AI3: その他 | AJ3: 個人立
E4: １年 | F4: １．５年 | G4: ２年 | H4: ３年 | I4: １年 | J4: １．５年 | K4: ２年 | L4: ３年 | M4: １年 | N4: １．５年 | O4: ２年 | P4: ３年 | Q4: １年 | R4: １．５年 | S4: ２年 | T4: ３年 | U4: １年 | V4: ２年 | W4: ４年 | Z4: 学校 | AA4: 学校 | AB4: 学校 | AC4: 別科 | AD4: 大学 | AH4: 法人立 | AI4: 法人立
B5: ※ | C5: ０１０４ | D5: =SUM(E5:X5) -> 40 | E5: 40 | Z5: 1 | AH5: 1
B6: ※ | C6: ０１０５ | D6: =SUM(E6:X6) -> 40 | T6: 40 | AB6: 1 | AH6: 1
C7: ０１０７ | D7: =SUM(E7:X7) -> 0 | G7: 0 | Z7: 0 | AH7: 0
B8: ※ | C8: ０１０８ | D8: =SUM(E8:X8) -> 90 | E8: 30 | G8: 60 | J8: 0 | Z8: 1 | AH8: 1
B9: ※ | C9: ０１１１ | D9: =SUM(E9:X9) -> 60 | E9: 40 | G9: 20 | I9: 0 | Z9: 1 | AH9: 1
B10: ※ | C10: ０１１２ | D10: =SUM(E10:X10) -> 120 | G10: 120 | Z10: 1 | AH10: 1
B11: ※ | C11: ０１１３ | D11: =SUM(E11:X11) -> 40 | G11: 40 | Z11: 1 | AH11: 1
B12: ※ | C12: ０１１４ | D12: =SUM(E12:X12) -> 76 | T12: 76 | AB12: 1 | AH12: 1
B13: ※ | C13: ０１１５ | D13: =SUM(E13:X13) -> 40 | E13: 40 | Z13: 1 | AH13: 1
B14: ※ | C14: ０１１６ | D14: =SUM(E14:X14) -> 80 | E14: 40 | G14: 40 | Z14: 1 | AH14: 1
C15: ０１１７ | D15: =SUM(E15:X15) -> 100 | E15: 50 | G15: 50 | Z15: 1 | AH15: 1
B16: ※ | C16: ０１１９ | D16: =SUM(E16:X16) -> 40 | G16: 40 | Z16: 1 | AH16: 1
B17: ※ | C17: ０１２０ | D17: =SUM(E17:X17) -> 40 | T17: 40 | AB17: 1 | AH17: 1
B18: ※ | C18: ０１２１ | D18: =SUM(E18:X18) -> 30 | T18: 30 | AB18: 1 | AG18: 1
B19: ※ | C19: ０１２２ | D19: =SUM(E19:X19) -> 20 | T19: 20 | AB19: 1 | AG19: 1
D20: =SUM(D5:D19) -> 816 | E20: =SUM(E5:E19) -> 240 | F20: =SUM(F5:F19) -> 0 | G20: =SUM(G5:G19) -> 370 | H20: =SUM(H5:H19) -> 0 | I20: =SUM(I5:I19) -> 0 | J20: =SUM(J5:J19) -> 0 | K20: =SUM(K5:K19) -> 0 | ... X20: =SUM(X5:X19) -> 0 | Z20: =SUM(Z5:Z19) -> 9 | AA20: =SUM(AA5:AA19) -> 0 | AB20: =SUM(AB5:AB19) -> 5 | AC20: =SUM(AC5:AC19) -> 0 | AD20: =SUM(AD5:AD19) -> 0 | AE20: =SUM(AE5:AE19) -> 0 | AF20: =SUM(AF5:AF19) -> 0 | AG20: =SUM(AG5:AG19) -> 2 | ... AJ20: =SUM(AJ5:AJ19) -> 0
C21: 北海道 | D21: =D20 -> 816 | E21: =E20 -> 240 | F21: =F20 -> 0 | G21: =G20 -> 370 | H21: =H20 -> 0 | I21: =I20 -> 0 | J21: =J20 -> 0 | K21: =K20 -> 0 | ... X21: =X20 -> 0 | Z21: =Z20 -> 9 | AA21: =AA20 -> 0 | AB21: =AB20 -> 5 | AC21: =AC20 -> 0 | AD21: =AD20 -> 0 | AE21: =AE20 -> 0 | AF21: =AF20 -> 0 | AG21: =AG20 -> 2 | ... AJ21: =AJ20 -> 0
B24: ※ | C24: ０２０２ | D24: =SUM(E24:X24) -> 30 | U24: 30 | V24: 0 | AC24: 1 | AD24: 0 | AH24: 1
C25: ０２０３ | D25: =SUM(E25:X25) -> 35 | T25: 35 | AB25: 1 | AH25: 1
B26: ※ | C26: ０２０５ | D26: =SUM(E26:X26) -> 40 | T26: 40 | AB26: 1 | AH26: 1
B27: ※ | C27: ０２０６ | D27: =SUM(E27:X27) -> 40 | T27: 40 | AB27: 1 | AH27: 1
C28: ０２０７ | D28: =SUM(E28:X28) -> 40 | T28: 40 | AB28: 1 | AG28: 1
C29: ０２０８ | D29: =SUM(E29:X29) -> 30 | T29: 30 | AB29: 1 | AH29: 1
C30: 青森 | D30: =SUM(E30:X30) -> 215 | E30: =SUM(E24:E29) -> 0 | F30: =SUM(F24:F29) -> 0 | G30: =SUM(G24:G29) -> 0 | H30: =SUM(H24:H29) -> 0 | I30: =SUM(I24:I29) -> 0 | J30: =SUM(J24:J29) -> 0 | K30: =SUM(K24:K29) -> 0 | L30: =SUM(L24:L29) -> 0 | ... X30: =SUM(X24:X29) -> 0 | Z30: =SUM(Z24:Z29) -> 0 | AA30: =SUM(AA24:AA29) -> 0 | AB30: =SUM(AB24:AB29) -> 5 | AC30: =SUM(AC24:AC29) -> 1 | AD30: =SUM(AD24:AD29) -> 0 | AE30: =SUM(AE24:AE29) -> 0 | AF30: =SUM(AF24:AF29) -> 0 | AG30: =SUM(AG24:AG29) -> 1 | ... AJ30: =SUM(AJ24:AJ29) -> 0
B31: ※ | C31: ０３０３ | D31: =SUM(E31:X31) -> 70 | T31: 70 | AB31: 1 | AH31: 1
C32: ０３０４ | D32: =SUM(E32:X32) -> 35 | T32: 35 | AB32: 1 | AH32: 1
C33: ０３０５ | D33: =SUM(E33:X33) -> 40 | T33: 40 | AB33: 1 | AG33: 1
C34: ０３０６ | D34: =SUM(E34:X34) -> 40 | T34: 40 | AB34: 1 | AG34: 1
B35: ※ | C35: ０３０７ | D35: =SUM(E35:X35) -> 40 | G35: 40 | Z35: 1 | AH35: 1
C36: ０３０８ | D36: =SUM(E36:X36) -> 40 | T36: 40 | AB36: 1 | AG36: 1
B37: ※ | C37: ０３０９ | D37: =SUM(E37:X37) -> 99 | E37: 39 | G37: 60 | Z37: 1 | AI37: 1
C38: ０３１０ | D38: =SUM(E38:X38) -> 60 | T38: 60 | AB38: 1 | AH38: 1
C39: 岩手 | D39: =SUM(D31:D38) -> 424 | E39: =SUM(E31:E38) -> 39 | F39: =SUM(F31:F38) -> 0 | G39: =SUM(G31:G38) -> 100 | H39: =SUM(H31:H38) -> 0 | I39: =SUM(I31:I38) -> 0 | J39: =SUM(J31:J38) -> 0 | K39: =SUM(K31:K38) -> 0 | ... X39: =SUM(X31:X38) -> 0 | Z39: =SUM(Z31:Z38) -> 2 | AA39: =SUM(AA31:AA38) -> 0 | AB39: =SUM(AB31:AB38) -> 6 | AC39: =SUM(AC31:AC38) -> 0 | AD39: =SUM(AD31:AD38) -> 0 | AE39: =SUM(AE31:AE38) -> 0 | AF39: =SUM(AF31:AF38) -> 0 | AG39: =SUM(AG31:AG38) -> 3 | ... AJ39: =SUM(AJ31:AJ38) -> 0
B40: ※ | C40: ０４０１ | D40: =SUM(E40:X40) -> 190 | E40: 70 | G40: 120 | K40: 0 | Z40: 1 | AH40: 1
B41: ※ | C41: ０４０２ | D41: =SUM(E41:X41) -> 105 | T41: 105 | AB41: 1 | AH41: 1
B42: ※ | C42: ０４０４ | D42: =SUM(E42:X42) -> 40 | T42: 40 | AB42: 1 | AG42: 1
B43: ※ | C43: ０４０５ | D43: =SUM(E43:X43) -> 80 | G43: 40 | I43: 40 | Z43: 1 | AH43: 1
B44: ※ | C44: ０４０６ | D44: =SUM(E44:X44) -> 40 | G44: 40 | Z44: 1 | AH44: 1
C45: 宮城 | D45: =SUM(E45:X45) -> 455 | E45: =SUM(E40:E44) -> 70 | F45: =SUM(F40:F44) -> 0 | G45: =SUM(G40:G44) -> 200 | H45: =SUM(H40:H44) -> 0 | I45: =SUM(I40:I44) -> 40 | J45: =SUM(J40:J44) -> 0 | K45: =SUM(K40:K44) -> 0 | L45: =SUM(L40:L44) -> 0 | ... X45: =SUM(X40:X44) -> 0 | Z45: =SUM(Z40:Z44) -> 3 | AA45: =SUM(AA40:AA44) -> 0 | AB45: =SUM(AB40:AB44) -> 2 | AC45: =SUM(AC40:AC44) -> 0 | AD45: =SUM(AD40:AD44) -> 0 | AE45: =SUM(AE40:AE44) -> 0 | AF45: =SUM(AF40:AF44) -> 0 | AG45: =SUM(AG40:AG44) -> 1 | ... AJ45: =SUM(AJ40:AJ44) -> 0
C46: ０５０４ | D46: =SUM(E46:X46) -> 40 | T46: 40 | AB46: 1 | AH46: 1
C47: 秋田 | D47: =SUM(E47:X47) -> 40 | E47: =SUM(E46:E46) -> 0 | F47: =SUM(F46:F46) -> 0 | G47: =SUM(G46:G46) -> 0 | H47: =SUM(H46:H46) -> 0 | I47: =SUM(I46:I46) -> 0 | J47: =SUM(J46:J46) -> 0 | K47: =SUM(K46:K46) -> 0 | L47: =SUM(L46:L46) -> 0 | ... X47: =SUM(X46:X46) -> 0 | Z47: =SUM(Z46:Z46) -> 0 | AA47: =SUM(AA46:AA46) -> 0 | AB47: =SUM(AB46:AB46) -> 1 | AC47: =SUM(AC46:AC46) -> 0 | AD47: =SUM(AD46:AD46) -> 0 | AE47: =SUM(AE46:AE46) -> 0 | AF47: =SUM(AF46:AF46) -> 0 | AG47: =SUM(AG46:AG46) -> 0 | ... AJ47: =SUM(AJ46:AJ46) -> 0
B48: ※ | C48: ０６０２ | D48: =SUM(E48:X48) -> 80 | E48: 40 | G48: 40 | Z48: 1 | AH48: 1
B49: ※ | C49: ０６０３ | D49: =SUM(E49:X49) -> 52 | E49: 16 | G49: 36 | Z49: 1 | AH49: 1
B50: ※ | C50: ０６０４ | D50: =SUM(E50:X50) -> 108 | T50: 108 | AB50: 1 | AH50: 1
B51: ※ | C51: ０６０５ | D51: =SUM(E51:X51) -> 40 | T51: 40 | AB51: 1 | AH51: 1
C52: ０６０７ | D52: =SUM(E52:X52) -> 40 | T52: 40 | AB52: 1 | AG52: 1
C53: 山形 | D53: =SUM(E53:X53) -> 320 | E53: =SUM(E48:E52) -> 56 | F53: =SUM(F48:F52) -> 0 | G53: =SUM(G48:G52) -> 76 | H53: =SUM(H48:H52) -> 0 | I53: =SUM(I48:I52) -> 0 | J53: =SUM(J48:J52) -> 0 | K53: =SUM(K48:K52) -> 0 | L53: =SUM(L48:L52) -> 0 | ... X53: =SUM(X48:X52) -> 0 | Z53: =SUM(Z48:Z52) -> 2 | AA53: =SUM(AA48:AA52) -> 0 | AB53: =SUM(AB48:AB52) -> 3 | AC53: =SUM(AC48:AC52) -> 0 | AD53: =SUM(AD48:AD52) -> 0 | AE53: =SUM(AE48:AE52) -> 0 | AF53: =SUM(AF48:AF52) -> 0 | AG53: =SUM(AG48:AG52) -> 1 | ... AJ53: =SUM(AJ48:AJ52) -> 0
B54: ※ | C54: ０７０１ | D54: =SUM(E54:X54) -> 40 | T54: 40 | AB54: 1 | AH54: 1
B55: ※ | C55: ０７０２ | D55: =SUM(E55:X55) -> 40 | T55: 40 | AB55: 1 | AH55: 1
B56: ※ | C56: ０７０３ | D56: =SUM(E56:X56) -> 70 | E56: 30 | G56: 40 | Z56: 1 | AH56: 1
B57: ※ | C57: ０７０４ | D57: =SUM(E57:X57) -> 40 | E57: 10 | G57: 30 | Z57: 1 | AH57: 1
C58: 福島 | D58: =SUM(E58:X58) -> 190 | E58: =SUM(E54:E57) -> 40 | F58: =SUM(F54:F57) -> 0 | G58: =SUM(G54:G57) -> 70 | H58: =SUM(H54:H57) -> 0 | I58: =SUM(I54:I57) -> 0 | J58: =SUM(J54:J57) -> 0 | K58: =SUM(K54:K57) -> 0 | L58: =SUM(L54:L57) -> 0 | ... X58: =SUM(X54:X57) -> 0 | Z58: =SUM(Z54:Z57) -> 2 | AA58: =SUM(AA54:AA57) -> 0 | AB58: =SUM(AB54:AB57) -> 2 | AC58: =SUM(AC54:AC57) -> 0 | AD58: =SUM(AD54:AD57) -> 0 | AE58: =SUM(AE54:AE57) -> 0 | AF58: =SUM(AF54:AF57) -> 0 | AG58: =SUM(AG54:AG57) -> 0 | ... AJ58: =SUM(AJ54:AJ57) -> 0
C59: 東北 | D59: =D30+D39+D45+D47+D53+D58 -> 1644 | E59: =E30+E39+E45+E47+E53+E58 -> 205 | F59: =F30+F39+F45+F47+F53+F58 -> 0 | G59: =G30+G39+G45+G47+G53+G58 -> 446 | H59: =H30+H39+H45+H47+H53+H58 -> 0 | I59: =I30+I39+I45+I47+I53+I58 -> 40 | J59: =J30+J39+J45+J47+J53+J58 -> 0 | K59: =K30+K39+K45+K47+K53+K58 -> 0 | ... X59: =X30+X39+X45+X47+X53+X58 -> 0 | Z59: =Z30+Z39+Z45+Z47+Z53+Z58 -> 9 | AA59: =AA30+AA39+AA45+AA47+AA53+AA58 -> 0 | AB59: =AB30+AB39+AB45+AB47+AB53+AB58 -> 19 | AC59: =AC30+AC39+AC45+AC47+AC53+AC58 -> 1 | AD59: =AD30+AD39+AD45+AD47+AD53+AD58 -> 0 | AE59: =AE30+AE39+AE45+AE47+AE53+AE58 -> 0 | AF59: =AF30+AF39+AF45+AF47+AF53+AF58 -> 0 | AG59: =AG30+AG39+AG45+AG47+AG53+AG58 -> 6 | ... AJ59: =AJ30+AJ39+AJ45+AJ47+AJ53+AJ58 -> 0
B62: ※ | C62: ０８０２ | D62: =SUM(E62:X62) -> 200 | G62: 100 | I62: 100 | Z62: 1 | AH62: 1
B63: ※ | C63: ０８０３ | D63: =SUM(E63:X63) -> 120 | E63: 40 | G63: 40 | L63: 40 | Z63: 1 | AH63: 1
B64: ※ | C64: ０８０４ | D64: =SUM(E64:X64) -> 80 | E64: 40 | G64: 40 | Z64: 1 | AH64: 1
C65: 茨城 | D65: =SUM(E65:X65) -> 400 | E65: =SUM(E62:E64) -> 80 | F65: =SUM(F62:F64) -> 0 | G65: =SUM(G62:G64) -> 180 | H65: =SUM(H62:H64) -> 0 | I65: =SUM(I62:I64) -> 100 | J65: =SUM(J62:J64) -> 0 | K65: =SUM(K62:K64) -> 0 | L65: =SUM(L62:L64) -> 40 | ... X65: =SUM(X62:X64) -> 0 | Z65: =SUM(Z62:Z64) -> 3 | AA65: =SUM(AA62:AA64) -> 0 | AB65: =SUM(AB62:AB64) -> 0 | AC65: =SUM(AC62:AC64) -> 0 | AD65: =SUM(AD62:AD64) -> 0 | AE65: =SUM(AE62:AE64) -> 0 | AF65: =SUM(AF62:AF64) -> 0 | AG65: =SUM(AG62:AG64) -> 0 | ... AJ65: =SUM(AJ62:AJ64) -> 0
B66: ※ | C66: ０９０１ | D66: =SUM(E66:X66) -> 100 | T66: 100 | AB66: 1 | AH66: 1
B67: ※ | C67: ０９０３ | D67: =SUM(E67:X67) -> 35 | E67: 20 | G67: 15 | Z67: 1 | AH67: 1
B68: ※ | C68: ０９０４ | D68: =SUM(E68:X68) -> 110 | E68: 40 | G68: 40 | L68: 30 | Z68: 1 | AH68: 1
B69: ※ | C69: ０９０５ | D69: =SUM(E69:X69) -> 40 | T69: =60-20 -> 40 | AB69: 1 | AH69: 1
C70: ０９０６ | D70: =SUM(E70:X70) -> 40 | T70: 40 | AB70: 1 | AG70: 1
B71: ※ | C71: ０９０８ | D71: =SUM(E71:X71) -> 120 | E71: 40 | G71: 80 | Z71: 1 | AH71: 1
C72: 栃木 | D72: =SUM(E72:X72) -> 445 | E72: =SUM(E66:E71) -> 100 | F72: =SUM(F66:F71) -> 0 | G72: =SUM(G66:G71) -> 135 | H72: =SUM(H66:H71) -> 0 | I72: =SUM(I66:I71) -> 0 | J72: =SUM(J66:J71) -> 0 | K72: =SUM(K66:K71) -> 0 | L72: =SUM(L66:L71) -> 30 | ... AJ72: =SUM(AJ66:AJ71) -> 0
B73: ※ | C73: １００１ | D73: =SUM(E73:X73) -> 160 | E73: 40 | G73: 120 | Z73: 1 | AH73: 1
C74: １００２ | D74: =SUM(E74:X74) -> 40 | E74: 40 | Z74: 1 | AH74: 1
B75: ※ | C75: １００３ | D75: =SUM(E75:X75) -> 40 | T75: 40 | AB75: 1 | AH75: 1
B76: ※ | C76: １００４ | D76: =SUM(E76:X76) -> 120 | E76: 40 | G76: 40 | K76: 40 | Z76: 1 | AH76: 1
C77: 群馬 | D77: =SUM(E77:X77) -> 360 | E77: =SUM(E73:E76) -> 120 | F77: =SUM(F73:F76) -> 0 | G77: =SUM(G73:G76) -> 160 | H77: =SUM(H73:H76) -> 0 | I77: =SUM(I73:I76) -> 0 | J77: =SUM(J73:J76) -> 0 | K77: =SUM(K73:K76) -> 40 | L77: =SUM(L73:L76) -> 0 | ... X77: =SUM(X73:X76) -> 0 | Z77: =SUM(Z73:Z76) -> 3 | AA77: =SUM(AA73:AA76) -> 0 | AB77: =SUM(AB73:AB76) -> 1 | AC77: =SUM(AC73:AC76) -> 0 | AD77: =SUM(AD73:AD76) -> 0 | AE77: =SUM(AE73:AE76) -> 0 | AF77: =SUM(AF73:AF76) -> 0 | AG77: =SUM(AG73:AG76) -> 0 | ... AJ77: =SUM(AJ73:AJ76) -> 0
B78: ※ | C78: １１０５ | D78: =SUM(E78:X78) -> 120 | E78: =80-80 -> 0 | G78: =120-120 -> 0 | U78: 80 | V78: 40 | AD78: 1 | AH78: 1
B79: ※ | C79: １１０７ | D79: =SUM(E79:X79) -> 200 | E79: 120 | G79: 80 | Z79: 1 | AH79: 1
B80: ※ | C80: １１０９ | D80: =SUM(E80:X80) -> 60 | E80: 40 | F80: 20 | G80: 0 | N80: 0 | Z80: 1 | AH80: 1
B81: ※ | C81: １１１０ | D81: =SUM(E81:X81) -> 40 | T81: 40 | AB81: 1 | AG81: 1
B82: ※ | C82: １１１１ | D82: =SUM(E82:X82) -> 80 | T82: 80 | AB82: 1 | AH82: 1
B83: ※ | C83: １１１２ | D83: =SUM(E83:X83) -> 40 | T83: 40 | AB83: 1 | AG83: 1
B84: ※ | C84: １１１５ | D84: =SUM(E84:X84) -> 80 | T84: 80 | AB84: 1 | AH84: 1
C85: １１１６ | D85: =SUM(E85:X85) -> 40 | T85: 40 | AB85: 1 | AG85: 1
B86: ※ | C86: １１１７ | D86: =SUM(E86:X86) -> 80 | G86: 80 | Z86: 1 | AH86: 1
C87: １１１８ | D87: =SUM(E87:X87) -> 40 | T87: 40 | AB87: 1 | AH87: 1
C88: 埼玉 | D88: =SUM(E88:X88) -> 780 | E88: =SUM(E78:E87) -> 160 | F88: =SUM(F78:F87) -> 20 | G88: =SUM(G78:G87) -> 160 | H88: =SUM(H78:H87) -> 0 | I88: =SUM(I78:I87) -> 0 | J88: =SUM(J78:J87) -> 0 | K88: =SUM(K78:K87) -> 0 | L88: =SUM(L78:L87) -> 0 | ... X88: =SUM(X78:X87) -> 0 | Z88: =SUM(Z78:Z87) -> 3 | AA88: =SUM(AA78:AA87) -> 0 | AB88: =SUM(AB78:AB87) -> 6 | AC88: =SUM(AC78:AC87) -> 0 | AD88: =SUM(AD78:AD87) -> 1 | AE88: =SUM(AE78:AE87) -> 0 | AF88: =SUM(AF78:AF87) -> 0 | AG88: =SUM(AG78:AG87) -> 3 | ... AJ88: =SUM(AJ78:AJ87) -> 0
B89: ※ | C89: １２０１ | D89: =SUM(E89:X89) -> 160 | E89: 80 | G89: 80 | Z89: 1 | AH89: 1
B90: ※ | C90: １２０２ | D90: =SUM(E90:X90) -> 110 | E90: 40 | F90: 70 | L90: 0 | Z90: 1 | AH90: 1
C91: １２０３ | D91: =SUM(E91:X91) -> 40 | T91: 40 | AB91: 1 | AG91: 1
B92: ※ | C92: １２０７ | D92: =SUM(E92:X92) -> 40 | T92: 40 | AB92: 1 | AH92: 1
C93: １２０８ | D93: =SUM(E93:X93) -> 40 | T93: 40 | AB93: 1 | AG93: 1
B94: ※ | C94: １２０９ | D94: =SUM(E94:X94) -> 120 | L94: 120 | Z94: 1 | AH94: 1
B95: ※ | C95: １２１０ | D95: =SUM(E95:X95) -> 120 | E95: 40 | G95: 80 | Z95: 1 | AH95: 1
C96: 千葉 | D96: =SUM(E96:X96) -> 630 | E96: =SUM(E89:E95) -> 160 | F96: =SUM(F89:F95) -> 70 | G96: =SUM(G89:G95) -> 160 | H96: =SUM(H89:H95) -> 0 | I96: =SUM(I89:I95) -> 0 | J96: =SUM(J89:J95) -> 0 | K96: =SUM(K89:K95) -> 0 | L96: =SUM(L89:L95) -> 120 | ... X96: =SUM(X89:X95) -> 0 | Z96: =SUM(Z89:Z95) -> 4 | AA96: =SUM(AA89:AA95) -> 0 | AB96: =SUM(AB89:AB95) -> 3 | AC96: =SUM(AC89:AC95) -> 0 | AD96: =SUM(AD89:AD95) -> 0 | AE96: =SUM(AE89:AE95) -> 0 | AF96: =SUM(AF89:AF95) -> 0 | AG96: =SUM(AG89:AG95) -> 2 | ... AJ96: =SUM(AJ89:AJ95) -> 0
B97: ※ | C97: １４０１ | D97: =SUM(E97:X97) -> 200 | E97: 160 | I97: 0 | J97: 40 | Z97: 1 | AH97: 1
B98: ※ | C98: １４０５ | D98: =SUM(E98:X98) -> 40 | E98: 0 | G98: 40 | Z98: 1 | AH98: 1
B99: ※ | C99: １４０６ | D99: =SUM(E99:X99) -> 100 | I99: 100 | J99: 0 | Z99: 1 | AH99: 1
B100: ※ | C100: １４０７ | D100: =SUM(E100:X100) -> 140 | E100: 30 | G100: 30 | I100: 0 | J100: 40 | L100: 40 | Z100: 1 | AH100: 1
C101: １４０９ | D101: =SUM(E101:X101) -> 40 | E101: 0 | G101: 40 | N101: 0 | Z101: 1 | AH101: 1
B102: ※ | C102: １４１０ | D102: =SUM(E102:X102) -> 80 | L102: 80 | Z102: 1 | AH102: 1
C103: 神奈川 | D103: =SUM(E103:X103) -> 600 | E103: =SUM(E97:E102) -> 190 | F103: =SUM(F97:F102) -> 0 | G103: =SUM(G97:G102) -> 110 | H103: =SUM(H97:H102) -> 0 | I103: =SUM(I97:I102) -> 100 | J103: =SUM(J97:J102) -> 80 | K103: =SUM(K97:K102) -> 0 | L103: =SUM(L97:L102) -> 120 | ... X103: =SUM(X97:X102) -> 0 | Z103: =SUM(Z97:Z102) -> 6 | AA103: =SUM(AA97:AA102) -> 0 | AB103: =SUM(AB97:AB102) -> 0 | AC103: =SUM(AC97:AC102) -> 0 | AD103: =SUM(AD97:AD102) -> 0 | AE103: =SUM(AE97:AE102) -> 0 | AF103: =SUM(AF97:AF102) -> 0 | AG103: =SUM(AG97:AG102) -> 0 | ... AJ103: =SUM(AJ97:AJ102) -> 0
B104: ※ | C104: １５０１ | D104: =SUM(E104:X104) -> 105 | E104: 30 | G104: 70 | I104: 5 | Z104: 1 | AH104: 1
...

Sheet C
B3: 都道 府県 | D3: 学校群別 | K3: 設置者別 | P3: 都道 府県 | R3: 学校群別 | Y3: 設置者別
A4: 地区 | C4: 計 | D4: 専修 | E4: 各種 | F4: 高等 | G4: 短大･大学 | H4: 短期 | I4: 大学 | J4: その他 | K4: 公立 | L4: 学校 | M4: その他 | N4: 個人立 | O4: 地区 | Q4: 計 | R4: 専修 | S4: 各種 | T4: 高等 | U4: 短大･大学 | V4: 短期 | W4: 大学 | X4: その他 | Y4: 公立 | Z4: 学校 | AA4: その他 | AB4: 個人立
D5: 学校 | E5: 学校 | F5: 学校 | G5: 別科 | H5: 大学 | L5: 法人立 | M5: 法人立 | R5: 学校 | S5: 学校 | T5: 学校 | U5: 別科 | V5: 大学 | Z5: 法人立 | AA5: 法人立
A6: 北 | B6: 北海道 | C6: =SUM(D6:J6) -> 14 | D6: =SUM(養成施設データ!Z20) -> 9 | E6: =SUM(養成施設データ!AA20) -> 0 | F6: =SUM(養成施設データ!AB20) -> 5 | G6: =SUM(養成施設データ!AC20) -> 0 | H6: =SUM(養成施設データ!AD20) -> 0 | I6: =SUM(養成施設データ!AE20) -> 0 | J6: =SUM(養成施設データ!AF20) -> 0 | K6: =SUM(養成施設データ!AG20) -> 2 | ... N6: =SUM(養成施設データ!AJ20) -> 0 | P6: 滋賀 | Q6: =SUM(R6:X6) -> 2 | R6: =SUM(養成施設データ!Z209) -> 0 | S6: =SUM(養成施設データ!AA209) -> 0 | T6: =SUM(養成施設データ!AB209) -> 2 | U6: =SUM(養成施設データ!AC209) -> 0 | V6: =SUM(養成施設データ!AD209) -> 0 | W6: =SUM(養成施設データ!AE209) -> 0 | X6: =SUM(養成施設データ!AF209) -> 0 | Y6: =SUM(養成施設データ!AG209) -> 0 | ... AB6: =SUM(養成施設データ!AJ209) -> 0
A7: 海 | B7: 小計 | C7: =SUM(D7:J7) -> 14 | D7: =SUM(養成施設データ!Z21) -> 9 | E7: =SUM(養成施設データ!AA21) -> 0 | F7: =SUM(養成施設データ!AB21) -> 5 | G7: =SUM(養成施設データ!AC21) -> 0 | H7: =SUM(養成施設データ!AD21) -> 0 | I7: =SUM(養成施設データ!AE21) -> 0 | J7: =SUM(養成施設データ!AF21) -> 0 | K7: =SUM(養成施設データ!AG21) -> 2 | ... N7: =SUM(養成施設データ!AJ21) -> 0 | O7: 近 | P7: 京都 | Q7: =SUM(R7:X7) -> 2 | R7: =SUM(養成施設データ!Z212) -> 1 | S7: =SUM(養成施設データ!AA212) -> 0 | T7: =SUM(養成施設データ!AB212) -> 1 | U7: =SUM(養成施設データ!AC212) -> 0 | V7: =SUM(養成施設データ!AD212) -> 0 | W7: =SUM(養成施設データ!AE212) -> 0 | X7: =SUM(養成施設データ!AF212) -> 0 | Y7: =SUM(養成施設データ!AG212) -> 0 | ... AB7: =SUM(養成施設データ!AJ212) -> 0
B8: 青森 | C8: =SUM(D8:J8) -> 6 | D8: =SUM(養成施設データ!Z30) -> 0 | E8: =SUM(養成施設データ!AA30) -> 0 | F8: =SUM(養成施設データ!AB30) -> 5 | G8: =SUM(養成施設データ!AC30) -> 1 | H8: =SUM(養成施設データ!AD30) -> 0 | I8: =SUM(養成施設データ!AE30) -> 0 | J8: =SUM(養成施設データ!AF30) -> 0 | K8: =SUM(養成施設データ!AG30) -> 1 | ... N8: =SUM(養成施設データ!AJ30) -> 0 | P8: 大阪 | Q8: =SUM(R8:X8) -> 11 | R8: =SUM(養成施設データ!Z224) -> 4 | S8: =SUM(養成施設データ!AA224) -> 1 | T8: =SUM(養成施設データ!AB224) -> 3 | U8: =SUM(養成施設データ!AC224) -> 0 | V8: =SUM(養成施設データ!AD224) -> 2 | W8: =SUM(養成施設データ!AE224) -> 1 | X8: =SUM(養成施設データ!AF224) -> 0 | Y8: =SUM(養成施設データ!AG224) -> 1 | ... AB8: =SUM(養成施設データ!AJ224) -> 1
A9: 東 | B9: 岩手 | C9: =SUM(D9:J9) -> 8 | D9: =SUM(養成施設データ!Z39) -> 2 | E9: =SUM(養成施設データ!AA39) -> 0 | F9: =SUM(養成施設データ!AB39) -> 6 | G9: =SUM(養成施設データ!AC39) -> 0 | H9: =SUM(養成施設データ!AD39) -> 0 | I9: =SUM(養成施設データ!AE39) -> 0 | J9: =SUM(養成施設データ!AF39) -> 0 | K9: =SUM(養成施設データ!AG39) -> 3 | ... N9: =SUM(養成施設データ!AJ39) -> 0 | O9: 畿 | P9: 兵庫 | Q9: =SUM(R9:X9) -> 6 | R9: =SUM(養成施設データ!Z231) -> 4 | S9: =SUM(養成施設データ!AA231) -> 0 | T9: =SUM(養成施設データ!AB231) -> 2 | U9: =SUM(養成施設データ!AC231) -> 0 | V9: =SUM(養成施設データ!AD231) -> 0 | W9: =SUM(養成施設データ!AE231) -> 0 | X9: =SUM(養成施設データ!AF231) -> 0 | Y9: =SUM(養成施設データ!AG231) -> 1 | ... AB9: =SUM(養成施設データ!AJ231) -> 0
A10: 北 | B10: 宮城 | C10: =SUM(D10:J10) -> 5 | D10: =SUM(養成施設データ!Z45) -> 3 | E10: =SUM(養成施設データ!AA45) -> 0 | F10: =SUM(養成施設データ!AB45) -> 2 | G10: =SUM(養成施設データ!AC45) -> 0 | H10: =SUM(養成施設データ!AD45) -> 0 | I10: =SUM(養成施設データ!AE45) -> 0 | J10: =SUM(養成施設データ!AF45) -> 0 | K10: =SUM(養成施設データ!AG45) -> 1 | ... N10: =SUM(養成施設データ!AJ45) -> 0 | P10: 奈良 | Q10: =SUM(R10:X10) -> 2 | R10: =SUM(養成施設データ!Z234) -> 0 | S10: =SUM(養成施設データ!AA234) -> 0 | T10: =SUM(養成施設データ!AB234) -> 1 | U10: =SUM(養成施設データ!AC234) -> 0 | V10: =SUM(養成施設データ!AD234) -> 0 | W10: =SUM(養成施設データ!AE234) -> 0 | X10: =SUM(養成施設データ!AF234) -> 1 | Y10: =SUM(養成施設データ!AG234) -> 1 | ... AB10: =SUM(養成施設データ!AJ234) -> 0
A11: 地 | B11: 秋田 | C11: =SUM(D11:J11) -> 1 | D11: =SUM(養成施設データ!Z47) -> 0 | E11: =SUM(養成施設データ!AA47) -> 0 | F11: =SUM(養成施設データ!AB47) -> 1 | G11: =SUM(養成施設データ!AC47) -> 0 | H11: =SUM(養成施設データ!AD47) -> 0 | I11: =SUM(養成施設データ!AE47) -> 0 | J11: =SUM(養成施設データ!AF47) -> 0 | K11: =SUM(養成施設データ!AG47) -> 0 | ... N11: =SUM(養成施設データ!AJ47) -> 0 | O11: 中 | P11: 和歌山 | Q11: =SUM(R11:X11) -> 1 | R11: =SUM(養成施設データ!Z236) -> 0 | S11: =SUM(養成施設データ!AA236) -> 0 | T11: =SUM(養成施設データ!AB236) -> 1 | U11: =SUM(養成施設データ!AC236) -> 0 | V11: =SUM(養成施設データ!AD236) -> 0 | W11: =SUM(養成施設データ!AE236) -> 0 | X11: =SUM(養成施設データ!AF236) -> 0 | Y11: =SUM(養成施設データ!AG236) -> 1 | ... AB11: =SUM(養成施設データ!AJ236) -> 0
A12: 区 | B12: 山形 | C12: =SUM(D12:J12) -> 5 | D12: =SUM(養成施設データ!Z53) -> 2 | E12: =SUM(養成施設データ!AA53) -> 0 | F12: =SUM(養成施設データ!AB53) -> 3 | G12: =SUM(養成施設データ!AC53) -> 0 | H12: =SUM(養成施設データ!AD53) -> 0 | I12: =SUM(養成施設データ!AE53) -> 0 | J12: =SUM(養成施設データ!AF53) -> 0 | K12: =SUM(養成施設データ!AG53) -> 1 | ... N12: =SUM(養成施設データ!AJ53) -> 0 | P12: 鳥取 | Q12: =SUM(R12:X12) -> 2 | R12: =SUM(養成施設データ!Z239) -> 0 | S12: =SUM(養成施設データ!AA239) -> 0 | T12: =SUM(養成施設データ!AB239) -> 2 | U12: =SUM(養成施設データ!AC239) -> 0 | V12: =SUM(養成施設データ!AD239) -> 0 | W12: =SUM(養成施設データ!AE239) -> 0 | X12: =SUM(養成施設データ!AF239) -> 0 | Y12: =SUM(養成施設データ!AG239) -> 1 | ... AB12: =SUM(養成施設データ!AJ239) -> 0
B13: 福島 | C13: =SUM(D13:J13) -> 4 | D13: =SUM(養成施設データ!Z58) -> 2 | E13: =SUM(養成施設データ!AA58) -> 0 | F13: =SUM(養成施設データ!AB58) -> 2 | G13: =SUM(養成施設データ!AC58) -> 0 | H13: =SUM(養成施設データ!AD58) -> 0 | I13: =SUM(養成施設データ!AE58) -> 0 | J13: =SUM(養成施設データ!AF58) -> 0 | K13: =SUM(養成施設データ!AG58) -> 0 | ... N13: =SUM(養成施設データ!AJ58) -> 0 | O13: 国 | P13: 島根 | Q13: =SUM(R13:X13) -> 1 | R13: =SUM(養成施設データ!Z241) -> 1 | S13: =SUM(養成施設データ!AA241) -> 0 | T13: =SUM(養成施設データ!AB241) -> 0 | U13: =SUM(養成施設データ!AC241) -> 0 | V13: =SUM(養成施設データ!AD241) -> 0 | W13: =SUM(養成施設データ!AE241) -> 0 | X13: =SUM(養成施設データ!AF241) -> 0 | Y13: =SUM(養成施設データ!AG241) -> 0 | ... AB13: =SUM(養成施設データ!AJ241) -> 0
B14: 小計 | C14: =SUM(C8:C13) -> 29 | D14: =SUM(D8:D13) -> 9 | E14: =SUM(E8:E13) -> 0 | F14: =SUM(F8:F13) -> 19 | G14: =SUM(G8:G13) -> 1 | H14: =SUM(H8:H13) -> 0 | I14: =SUM(I8:I13) -> 0 | J14: =SUM(J8:J13) -> 0 | ... N14: =SUM(N8:N13) -> 0 | P14: 岡山 | Q14: =SUM(R14:X14) -> 4 | R14: =SUM(養成施設データ!Z246) -> 2 | S14: =SUM(養成施設データ!AA246) -> 0 | T14: =SUM(養成施設データ!AB246) -> 2 | U14: =SUM(養成施設データ!AC246) -> 0 | V14: =SUM(養成施設データ!AD246) -> 0 | W14: =SUM(養成施設データ!AE246) -> 0 | X14: =SUM(養成施設データ!AF246) -> 0 | Y14: =SUM(養成施設データ!AG246) -> 1 | ... AB14: =SUM(養成施設データ!AJ246) -> 0
B15: 茨城 | C15: =SUM(D15:J15) -> 3 | D15: =SUM(養成施設データ!Z65) -> 3 | E15: =SUM(養成施設データ!AA65) -> 0 | F15: =SUM(養成施設データ!AB65) -> 0 | G15: =SUM(養成施設データ!AC65) -> 0 | H15: =SUM(養成施設データ!AD65) -> 0 | I15: =SUM(養成施設データ!AE65) -> 0 | J15: =SUM(養成施設データ!AF65) -> 0 | K15: =SUM(養成施設データ!AG65) -> 0 | ... N15: =SUM(養成施設データ!AJ65) -> 0 | O15: 四 | P15: 広島 | Q15: =SUM(R15:X15) -> 5 | R15: =SUM(養成施設データ!Z252) -> 2 | S15: =SUM(養成施設データ!AA252) -> 0 | T15: =SUM(養成施設データ!AB252) -> 2 | U15: =SUM(養成施設データ!AC252) -> 0 | V15: =SUM(養成施設データ!AD252) -> 1 | W15: =SUM(養成施設データ!AE252) -> 0 | X15: =SUM(養成施設データ!AF252) -> 0 | Y15: =SUM(養成施設データ!AG252) -> 1 | ... AB15: =SUM(養成施設データ!AJ252) -> 0
B16: 栃木 | C16: =SUM(D16:J16) -> 6 | D16: =SUM(養成施設データ!Z72) -> 3 | E16: =SUM(養成施設データ!AA72) -> 0 | F16: =SUM(養成施設データ!AB72) -> 3 | G16: =SUM(養成施設データ!AC72) -> 0 | H16: =SUM(養成施設データ!AD72) -> 0 | I16: =SUM(養成施設データ!AE72) -> 0 | J16: =SUM(養成施設データ!AF72) -> 0 | K16: =SUM(養成施設データ!AG72) -> 1 | ... N16: =SUM(養成施設データ!AJ72) -> 0 | P16: 山口 | Q16: =SUM(R16:X16) -> 5 | R16: =SUM(養成施設データ!Z258) -> 1 | S16: =SUM(養成施設データ!AA258) -> 0 | T16: =SUM(養成施設データ!AB258) -> 4 | U16: =SUM(養成施設データ!AC258) -> 0 | V16: =SUM(養成施設データ!AD258) -> 0 | W16: =SUM(養成施設データ!AE258) -> 0 | X16: =SUM(養成施設データ!AF258) -> 0 | Y16: =SUM(養成施設データ!AG258) -> 0 | ... AB16: =SUM(養成施設データ!AJ258) -> 0
A17: 関 | B17: 群馬 | C17: =SUM(D17:J17) -> 4 | D17: =SUM(養成施設データ!Z77) -> 3 | E17: =SUM(養成施設データ!AA77) -> 0 | F17: =SUM(養成施設データ!AB77) -> 1 | G17: =SUM(養成施設データ!AC77) -> 0 | H17: =SUM(養成施設データ!AD77) -> 0 | I17: =SUM(養成施設データ!AE77) -> 0 | J17: =SUM(養成施設データ!AF77) -> 0 | K17: =SUM(養成施設データ!AG77) -> 0 | ... N17: =SUM(養成施設データ!AJ77) -> 0 | O17: 国 | P17: 徳島 | Q17: =SUM(R17:X17) -> 3 | R17: =SUM(養成施設データ!Z262) -> 2 | S17: =SUM(養成施設データ!AA262) -> 0 | T17: =SUM(養成施設データ!AB262) -> 1 | U17: =SUM(養成施設データ!AC262) -> 0 | V17: =SUM(養成施設データ!AD262) -> 0 | W17: =SUM(養成施設データ!AE262) -> 0 | X17: =SUM(養成施設データ!AF262) -> 0 | Y17: =SUM(養成施設データ!AG262) -> 1 | ... AB17: =SUM(養成施設データ!AJ262) -> 0
A18: 東 | B18: 埼玉 | C18: =SUM(D18:J18) -> 10 | D18: =SUM(養成施設データ!Z88) -> 3 | E18: =SUM(養成施設データ!AA88) -> 0 | F18: =SUM(養成施設データ!AB88) -> 6 | G18: (1) | H18: =SUM(養成施設データ!AD88) -> 1 | I18: =SUM(養成施設データ!AE88) -> 0 | J18: =SUM(養成施設データ!AF88) -> 0 | K18: =SUM(養成施設データ!AG88) -> 3 | L18: =SUM(養成施設データ!AH88) -> 7 | M18: =SUM(養成施設データ!AI88) -> 0 | N18: =SUM(養成施設データ!AJ88) -> 0 | P18: 香川 | Q18: =SUM(R18:X18) -> 3 | R18: =SUM(養成施設データ!Z266) -> 1 | S18: =SUM(養成施設データ!AA266) -> 0 | T18: =SUM(養成施設データ!AB266) -> 2 | U18: =SUM(養成施設データ!AC266) -> 0 | V18: =SUM(養成施設データ!AD266) -> 0 | W18: =SUM(養成施設データ!AE266) -> 0 | X18: =SUM(養成施設データ!AF266) -> 0 | Y18: =SUM(養成施設データ!AG266) -> 1 | ... AB18: =SUM(養成施設データ!AJ266) -> 0
A19: 甲 | B19: 千葉 | C19: =SUM(D19:J19) -> 7 | D19: =SUM(養成施設データ!Z96) -> 4 | E19: =SUM(養成施設データ!AA96) -> 0 | F19: =SUM(養成施設データ!AB96) -> 3 | G19: =SUM(養成施設データ!AC96) -> 0 | H19: =SUM(養成施設データ!AD96) -> 0 | I19: =SUM(養成施設データ!AE96) -> 0 | J19: =SUM(養成施設データ!AF96) -> 0 | K19: =SUM(養成施設データ!AG96) -> 2 | ... N19: =SUM(養成施設データ!AJ96) -> 0 | O19: 地 | P19: 愛媛 | Q19: =SUM(R19:X19) -> 5 | R19: =SUM(養成施設データ!Z272) -> 2 | S19: =SUM(養成施設データ!AA272) -> 0 | T19: =SUM(養成施設データ!AB272) -> 2 | U19: =SUM(養成施設データ!AC272) -> 0 | V19: =SUM(養成施設データ!AD272) -> 1 | W19: =SUM(養成施設データ!AE272) -> 0 | X19: =SUM(養成施設データ!AF272) -> 0 | Y19: =SUM(養成施設データ!AG272) -> 0 | ... AB19: =SUM(養成施設データ!AJ272) -> 0
A20: 信 | B20: 神奈川 | C20: =SUM(D20:J20) -> 6 | D20: =SUM(養成施設データ!Z103) -> 6 | E20: =SUM(養成施設データ!AA103) -> 0 | F20: =SUM(養成施設データ!AB103) -> 0 | G20: =SUM(養成施設データ!AC103) -> 0 | H20: =SUM(養成施設データ!AD103) -> 0 | I20: =SUM(養成施設データ!AE103) -> 0 | J20: =SUM(養成施設データ!AF103) -> 0 | K20: =SUM(養成施設データ!AG103) -> 0 | ... N20: =SUM(養成施設データ!AJ103) -> 0 | P20: 高知 | Q20: =SUM(R20:X20) -> 2 | R20: =SUM(養成施設データ!Z275) -> 2 | S20: =SUM(養成施設データ!AA275) -> 0 | T20: =SUM(養成施設データ!AB275) -> 0 | U20: =SUM(養成施設データ!AC275) -> 0 | V20: =SUM(養成施設データ!AD275) -> 0 | W20: =SUM(養成施設データ!AE275) -> 0 | X20: =SUM(養成施設データ!AF275) -> 0 | Y20: =SUM(養成施設データ!AG275) -> 0 | ... AB20: =SUM(養成施設データ!AJ275) -> 0
A21: 越 | B21: 新潟 | C21: =SUM(D21:J21) -> 7 | D21: =SUM(養成施設データ!Z111) -> 6 | E21: =SUM(養成施設データ!AA111) -> 0 | F21: =SUM(養成施設データ!AB111) -> 1 | G21: =SUM(養成施設データ!AC111) -> 0 | H21: =SUM(養成施設データ!AD111) -> 0 | I21: =SUM(養成施設データ!AE111) -> 0 | J21: =SUM(養成施設データ!AF111) -> 0 | K21: =SUM(養成施設データ!AG111) -> 1 | ... N21: =SUM(養成施設データ!AJ111) -> 0 | O21: 区 | P21: 小計 | Q21: =SUM(Q6:Q20) -> 54 | R21: =SUM(R6:R20) -> 22 | S21: =SUM(S6:S20) -> 1 | T21: =SUM(T6:T20) -> 25 | U21: =SUM(U6:U20) -> 0 | V21: =SUM(V6:V20) -> 4 | W21: =SUM(W6:W20) -> 1 | X21: =SUM(X6:X20) -> 1 | ... AB21: =SUM(AB6:AB20) -> 1
A22: 地 | B22: 山梨 | C22: =SUM(D22:J22) -> 1 | D22: =SUM(養成施設データ!Z113) -> 1 | E22: =SUM(養成施設データ!AA113) -> 0 | F22: =SUM(養成施設データ!AB113) -> 0 | G22: =SUM(養成施設データ!AC113) -> 0 | H22: =SUM(養成施設データ!AD113) -> 0 | I22: =SUM(養成施設データ!AE113) -> 0 | J22: =SUM(養成施設データ!AF113) -> 0 | K22: =SUM(養成施設データ!AG113) -> 0 | ... N22: =SUM(養成施設データ!AJ113) -> 0 | P22: 福岡 | Q22: =SUM(R22:X22) -> 13 | R22: =SUM(養成施設データ!Z292) -> 4 | S22: =SUM(養成施設データ!AA292) -> 0 | T22: =SUM(養成施設データ!AB292) -> 8 | U22: =SUM(養成施設データ!AC292) -> 0 | V22: =SUM(養成施設データ!AD292) -> 1 | W22: =SUM(養成施設データ!AE292) -> 0 | X22: =SUM(養成施設データ!AF292) -> 0 | Y22: =SUM(養成施設データ!AG292) -> 2 | ... AB22: =SUM(養成施設データ!AJ292) -> 0
A23: 区 | B23: 長野 | C23: =SUM(D23:J23) -> 3 | D23: =SUM(養成施設データ!Z117) -> 2 | E23: =SUM(養成施設データ!AA117) -> 0 | F23: =SUM(養成施設データ!AB117) -> 1 | G23: =SUM(養成施設データ!AC117) -> 0 | H23: =SUM(養成施設データ!AD117) -> 0 | I23: =SUM(養成施設データ!AE117) -> 0 | J23: =SUM(養成施設データ!AF117) -> 0 | K23: =SUM(養成施設データ!AG117) -> 0 | ... N23: =SUM(養成施設データ!AJ117) -> 0 | O23: 九 | P23: 佐賀 | Q23: =SUM(R23:X23) -> 4 | R23: =SUM(養成施設データ!Z297) -> 1 | S23: =SUM(養成施設データ!AA297) -> 0 | T23: =SUM(養成施設データ!AB297) -> 3 | U23: =SUM(養成施設データ!AC297) -> 0 | V23: =SUM(養成施設データ!AD297) -> 0 | W23: =SUM(養成施設データ!AE297) -> 0 | X23: =SUM(養成施設データ!AF297) -> 0 | Y23: =SUM(養成施設データ!AG297) -> 2 | ... AB23: =SUM(養成施設データ!AJ297) -> 0
B24: 小計 | C24: =SUM(C15:C23) -> 47 | D24: =SUM(D15:D23) -> 31 | E24: =SUM(E15:E23) -> 0 | F24: =SUM(F15:F23) -> 15 | G24: (1) | H24: =SUM(H15:H23) -> 1 | I24: =SUM(I15:I23) -> 0 | J24: =SUM(J15:J23) -> 0 | K24: =SUM(K15:K23) -> 7 | L24: =SUM(L15:L23) -> 40 | M24: =SUM(M15:M23) -> 0 | N24: =SUM(N15:N23) -> 0 | P24: 長崎 | Q24: =SUM(R24:X24) -> 4 | R24: =SUM(養成施設データ!Z302) -> 1 | S24: =SUM(養成施設データ!AA302) -> 0 | T24: =SUM(養成施設データ!AB302) -> 3 | U24: =SUM(養成施設データ!AC302) -> 0 | V24: =SUM(養成施設データ!AD302) -> 0 | W24: =SUM(養成施設データ!AE302) -> 0 | X24: =SUM(養成施設データ!AF302) -> 0 | Y24: =SUM(養成施設データ!AG302) -> 0 | ... AB24: =SUM(養成施設データ!AJ302) -> 0
A25: 東 | B25: 東京 | C25: =SUM(D25:J25) -> 31 | D25: =SUM(養成施設データ!Z152) -> 26 | E25: =SUM(養成施設データ!AA152) -> 0 | F25: =SUM(養成施設データ!AB152) -> 4 | G25: =SUM(養成施設データ!AC152) -> 0 | H25: =SUM(養成施設データ!AD152) -> 0 | I25: =SUM(養成施設データ!AE152) -> 0 | J25: =SUM(養成施設データ!AF152) -> 1 | K25: =SUM(養成施設データ!AG152) -> 4 | ... N25: =SUM(養成施設データ!AJ152) -> 1 | O25: 州 | P25: 熊本 | Q25: =SUM(R25:X25) -> 5 | R25: =SUM(養成施設データ!Z308) -> 2 | S25: =SUM(養成施設データ!AA308) -> 0 | T25: =SUM(養成施設データ!AB308) -> 3 | U25: =SUM(養成施設データ!AC308) -> 0 | V25: =SUM(養成施設データ!AD308) -> 0 | W25: =SUM(養成施設データ!AE308) -> 0 | X25: =SUM(養成施設データ!AF308) -> 0 | Y25: =SUM(養成施設データ!AG308) -> 0 | ... AB25: =SUM(養成施設データ!AJ308) -> 0
A26: 京 | B26: 小計 | C26: =SUM(C25) -> 31 | D26: =SUM(D25) -> 26 | E26: =SUM(E25) -> 0 | F26: =SUM(F25) -> 4 | G26: =SUM(G25) -> 0 | H26: =SUM(H25) -> 0 | I26: =SUM(I25) -> 0 | J26: =SUM(J25) -> 1 | ... N26: =SUM(N25) -> 1 | P26: 大分 | Q26: =SUM(R26:X26) -> 7 | R26: =SUM(養成施設データ!Z316) -> 2 | S26: =SUM(養成施設データ!AA316) -> 0 | T26: =SUM(養成施設データ!AB316) -> 5 | U26: =SUM(養成施設データ!AC316) -> 0 | V26: =SUM(養成施設データ!AD316) -> 0 | W26: =SUM(養成施設データ!AE316) -> 0 | X26: =SUM(養成施設データ!AF316) -> 0 | Y26: =SUM(養成施設データ!AG316) -> 0 | ... AB26: =SUM(養成施設データ!AJ316) -> 0
B27: 富山 | C27: =SUM(D27:J27) -> 3 | D27: =SUM(養成施設データ!Z159) -> 1 | E27: =SUM(養成施設データ!AA159) -> 1 | F27: =SUM(養成施設データ!AB159) -> 1 | G27: =SUM(養成施設データ!AC159) -> 0 | H27: =SUM(養成施設データ!AD159) -> 0 | I27: =SUM(養成施設データ!AE159) -> 0 | J27: =SUM(養成施設データ!AF159) -> 0 | K27: =SUM(養成施設データ!AG159) -> 1 | ... N27: =SUM(養成施設データ!AJ159) -> 0 | O27: 地 | P27: 宮崎 | Q27: =SUM(R27:X27) -> 6 | R27: =SUM(養成施設データ!Z323) -> 1 | S27: =SUM(養成施設データ!AA323) -> 0 | T27: =SUM(養成施設データ!AB323) -> 5 | U27: =SUM(養成施設データ!AC323) -> 0 | V27: =SUM(養成施設データ!AD323) -> 0 | W27: =SUM(養成施設データ!AE323) -> 0 | X27: =SUM(養成施設データ!AF323) -> 0 | Y27: =SUM(養成施設データ!AG323) -> 0 | ... AB27: =SUM(養成施設データ!AJ323) -> 0
A28: 北 | B28: 石川 | C28: =SUM(D28:J28) -> 4 | D28: =SUM(養成施設データ!Z164) -> 3 | E28: =SUM(養成施設データ!AA164) -> 0 | F28: =SUM(養成施設データ!AB164) -> 1 | G28: =SUM(養成施設データ!AC164) -> 0 | H28: =SUM(養成施設データ!AD164) -> 0 | I28: =SUM(養成施設データ!AE164) -> 0 | J28: =SUM(養成施設データ!AF164) -> 0 | K28: =SUM(養成施設データ!AG164) -> 0 | ... N28: =SUM(養成施設データ!AJ164) -> 0 | P28: 鹿児島 | Q28: =SUM(R28:X28) -> 5 | R28: =SUM(養成施設データ!Z329) -> 1 | S28: =SUM(養成施設データ!AA329) -> 0 | T28: =SUM(養成施設データ!AB329) -> 4 | U28: =SUM(養成施設データ!AC329) -> 0 | V28: =SUM(養成施設データ!AD329) -> 0 | W28: =SUM(養成施設データ!AE329) -> 0 | X28: =SUM(養成施設データ!AF329) -> 0 | Y28: =SUM(養成施設データ!AG329) -> 1 | ... AB28: =SUM(養成施設データ!AJ329) -> 0
A29: 陸 | B29: 福井 | C29: =SUM(D29:J29) -> 4 | D29: =SUM(養成施設データ!Z169) -> 2 | E29: =SUM(養成施設データ!AA169) -> 0 | F29: =SUM(養成施設データ!AB169) -> 2 | G29: =SUM(養成施設データ!AC169) -> 0 | H29: =SUM(養成施設データ!AD169) -> 0 | I29: =SUM(養成施設データ!AE169) -> 0 | J29: =SUM(養成施設データ!AF169) -> 0 | K29: =SUM(養成施設データ!AG169) -> 1 | ... N29: =SUM(養成施設データ!AJ169) -> 0 | O29: 区 | P29: 沖縄 | Q29: =SUM(R29:X29) -> 5 | R29: =SUM(養成施設データ!Z335) -> 3 | S29: =SUM(養成施設データ!AA335) -> 0 | T29: =SUM(養成施設データ!AB335) -> 2 | U29: =SUM(養成施設データ!AC335) -> 0 | V29: =SUM(養成施設データ!AD335) -> 0 | W29: =SUM(養成施設データ!AE335) -> 0 | X29: =SUM(養成施設データ!AF335) -> 0 | Y29: =SUM(養成施設データ!AG335) -> 2 | ... AB29: =SUM(養成施設データ!AJ335) -> 0
A30: 東 | B30: 岐阜 | C30: =SUM(D30:J30) -> 4 | D30: =SUM(養成施設データ!Z174) -> 2 | E30: =SUM(養成施設データ!AA174) -> 0 | F30: =SUM(養成施設データ!AB174) -> 2 | G30: =SUM(養成施設データ!AC174) -> 0 | H30: =SUM(養成施設データ!AD174) -> 0 | I30: =SUM(養成施設データ!AE174) -> 0 | J30: =SUM(養成施設データ!AF174) -> 0 | K30: =SUM(養成施設データ!AG174) -> 1 | ... N30: =SUM(養成施設データ!AJ174) -> 0 | P30: 小計 | Q30: =SUM(Q22:Q29) -> 49 | R30: =SUM(R22:R29) -> 15 | S30: =SUM(S22:S29) -> 0 | T30: =SUM(T22:T29) -> 33 | U30: =SUM(U22:U29) -> 0 | V30: =SUM(V22:V29) -> 1 | W30: =SUM(W22:W29) -> 0 | X30: =SUM(X22:X29) -> 0 | ... AB30: =SUM(AB22:AB29) -> 0
A31: 海 | B31: 静岡 | C31: =SUM(D31:J31) -> 7 | D31: =SUM(養成施設データ!Z182) -> 7 | E31: =SUM(養成施設データ!AA182) -> 0 | F31: =SUM(養成施設データ!AB182) -> 0 | G31: =SUM(養成施設データ!AC182) -> 0 | H31: =SUM(養成施設データ!AD182) -> 0 | I31: =SUM(養成施設データ!AE182) -> 0 | J31: =SUM(養成施設データ!AF182) -> 0 | K31: =SUM(養成施設データ!AG182) -> 0 | ... N31: =SUM(養成施設データ!AJ182) -> 0
A32: 地 | B32: 愛知 | C32: =SUM(D32:J32) -> 15 | D32: =SUM(養成施設データ!Z198) -> 12 | E32: =SUM(養成施設データ!AA198) -> 0 | F32: =SUM(養成施設データ!AB198) -> 3 | G32: =SUM(養成施設データ!AC198) -> 0 | H32: =SUM(養成施設データ!AD198) -> 0 | I32: =SUM(養成施設データ!AE198) -> 0 | J32: =SUM(養成施設データ!AF198) -> 0 | K32: =SUM(養成施設データ!AG198) -> 2 | ... N32: =SUM(養成施設データ!AJ198) -> 0 | O32: 合 計 | Q32: =C7+C14+C24+C26+C34+Q21+Q30 -> 265 | R32: =D7+D14+D24+D26+D34+R21+R30 -> 142 | S32: =E7+E14+E24+E26+E34+S21+S30 -> 2 | T32: =F7+F14+F24+F26+F34+T21+T30 -> 111 | U32: =G7+G14+G26+G34+U21+U30 -> 1 | V32: =H7+H14+H24+H26+H34+V21+V30 -> 6 | W32: =I7+I14+I24+I26+I34+W21+W30 -> 1 | X32: =J7+J14+J24+J26+J34+X21+X30 -> 2 | Y32: =K7+K14+K24+K26+K34+Y21+Y30 -> 41 | Z32: =L7+L14+L24+L26+L34+Z21+Z30 -> 218 | AA32: =M7+M14+M24+M26+M34+AA21+AA30 -> 4 | AB32: =N7+N14+N24+N26+N34+AB21+AB30 -> 2
A33: 区 | B33: 三重 | C33: =SUM(D33:J33) -> 4 | D33: =SUM(養成施設データ!Z203) -> 3 | E33: =SUM(養成施設データ!AA203) -> 0 | F33: =SUM(養成施設データ!AB203) -> 1 | G33: =SUM(養成施設データ!AC203) -> 0 | H33: =SUM(養成施設データ!AD203) -> 0 | I33: =SUM(養成施設データ!AE203) -> 0 | J33: =SUM(養成施設データ!AF203) -> 0 | K33: =SUM(養成施設データ!AG203) -> 1 | ... N33: =SUM(養成施設データ!AJ203) -> 0 | O33: （％） | Q33: 1 | R33: =ROUND(R32/$Q32,3) -> 0.536 | S33: =ROUND(S32/$Q32,3) -> 0.008 | T33: =ROUND(T32/$Q32,3) -> 0.419 | U33: =ROUND(U32/$Q32,3) -> 0.004 | V33: =ROUNDDOWN(V32/$Q32,3) -> 0.022 | W33: =ROUND(W32/$Q32,3) -> 0.004 | X33: =ROUND(X32/$Q32,3) -> 0.008 | Y33: =Y32/$Q32 -> 0.15471698 | Z33: =Z32/$Q32 -> 0.82264151 | AA33: =AA32/$Q32 -> 0.01509434 | AB33: =AB32/$Q32 -> 0.0075471698 | AC33: =SUM(R33:X33) -> 1.001
B34: 小計 | C34: =SUM(C27:C33) -> 41 | D34: =SUM(D27:D33) -> 30 | E34: =SUM(E27:E33) -> 1 | F34: =SUM(F27:F33) -> 10 | G34: =SUM(G27:G33) -> 0 | H34: =SUM(H27:H33) -> 0 | I34: =SUM(I27:I33) -> 0 | J34: =SUM(J27:J33) -> 0 | ... N34: =SUM(N27:N33) -> 0
A35: ※（ )は再掲、合計欄には含まないものとする
