Workbook

Sheet 第１－２表
A1: 第１－２表 都道府県別養成施設 | N1: (学校群別・修業期間別)入学定員数
W2: 令和８年度
A3: 地区 | B3: 都道府県 | C3: 計 | D3: 学校群別・修業期間別 | Y3: 都道府県 | Z3: 地区
D4: 専修学校 | P4: 各種学校 | S4: 高等 学校 | T4: 短大･ 専攻科 ・別科 | U4: 短期 大学 | V4: 大学 | W4: その他
D5: 専門課程 | H5: 高等課程 | L5: 一般課程
D6: １年 | E6: １.５年 | F6: ２年 | G6: ３年 | H6: １年 | I6: １.５年 | J6: ２年 | K6: ３年 | L6: １年 | M6: １.５年 | N6: ２年 | O6: ３年 | P6: １年 | Q6: １.５年 | R6: ２年 | S6: ３年 | T6: １年 | U6: ２年 | V6: ４年 | W6: １年 | X6: ２年
A7: 北海道 | Z7: 北海道
B8: 北海道 | C8: =養成施設データ!D20 -> 816 | D8: =養成施設データ!E20 -> 240 | E8: =養成施設データ!F20 -> 0 | F8: =養成施設データ!G20 -> 370 | G8: =養成施設データ!H20 -> 0 | H8: =養成施設データ!I20 -> 0 | I8: =養成施設データ!J20 -> 0 | J8: =養成施設データ!K20 -> 0 | ... U8: =養成施設データ!V20 -> 0 | V8: 0 | W8: =養成施設データ!X20 -> 0 | X8: =養成施設データ!Y20 -> 0 | Y8: 北海道
B9: 小計 | C9: =SUM(C8) -> 816 | D9: =SUM(D8) -> 240 | E9: =SUM(E8) -> 0 | F9: =SUM(F8) -> 370 | G9: =SUM(G8) -> 0 | H9: =SUM(H8) -> 0 | I9: =SUM(I8) -> 0 | J9: =SUM(J8) -> 0 | ... T9: =SUM(T8) -> 0 | U9: 0 | V9: =SUM(V8) -> 0 | W9: =SUM(W8) -> 0 | X9: =SUM(X8) -> 0 | Y9: 小計
A10: 東北 | B10: 青森 | C10: =養成施設データ!D30 -> 215 | D10: =養成施設データ!E30 -> 0 | E10: =養成施設データ!F30 -> 0 | F10: =養成施設データ!G30 -> 0 | G10: =養成施設データ!H30 -> 0 | H10: =養成施設データ!I30 -> 0 | I10: =養成施設データ!J30 -> 0 | J10: =養成施設データ!K30 -> 0 | ... U10: =養成施設データ!V30 -> 0 | V10: 0 | W10: =養成施設データ!X30 -> 0 | X10: =養成施設データ!Y30 -> 0 | Y10: 青森 | Z10: 東北
B11: 岩手 | C11: =養成施設データ!D39 -> 424 | D11: =養成施設データ!E39 -> 39 | E11: =養成施設データ!F39 -> 0 | F11: =養成施設データ!G39 -> 100 | G11: =養成施設データ!H39 -> 0 | H11: =養成施設データ!I39 -> 0 | I11: =養成施設データ!J39 -> 0 | J11: =養成施設データ!K39 -> 0 | ... U11: =養成施設データ!V39 -> 0 | V11: 0 | W11: =養成施設データ!X39 -> 0 | X11: =養成施設データ!Y39 -> 0 | Y11: 岩手
B12: 宮城 | C12: =養成施設データ!D45 -> 455 | D12: =養成施設データ!E45 -> 70 | E12: =養成施設データ!F45 -> 0 | F12: =養成施設データ!G45 -> 200 | G12: =養成施設データ!H45 -> 0 | H12: =養成施設データ!I45 -> 40 | I12: =養成施設データ!J45 -> 0 | J12: =養成施設データ!K45 -> 0 | ... U12: =養成施設データ!V45 -> 0 | V12: 0 | W12: =養成施設データ!X45 -> 0 | X12: =養成施設データ!Y45 -> 0 | Y12: 宮城
B13: 秋田 | C13: =養成施設データ!D47 -> 40 | D13: =養成施設データ!E47 -> 0 | E13: =養成施設データ!F47 -> 0 | F13: =養成施設データ!G47 -> 0 | G13: =養成施設データ!H47 -> 0 | H13: =養成施設データ!I47 -> 0 | I13: =養成施設データ!J47 -> 0 | J13: =養成施設データ!K47 -> 0 | ... U13: =養成施設データ!V47 -> 0 | V13: 0 | W13: =養成施設データ!X47 -> 0 | X13: =養成施設データ!Y47 -> 0 | Y13: 秋田
B14: 山形 | C14: =養成施設データ!D53 -> 320 | D14: =養成施設データ!E53 -> 56 | E14: =養成施設データ!F53 -> 0 | F14: =養成施設データ!G53 -> 76 | G14: =養成施設データ!H53 -> 0 | H14: =養成施設データ!I53 -> 0 | I14: =養成施設データ!J53 -> 0 | J14: =養成施設データ!K53 -> 0 | ... U14: =養成施設データ!V53 -> 0 | V14: 0 | W14: =養成施設データ!X53 -> 0 | X14: =養成施設データ!Y53 -> 0 | Y14: 山形
B15: 福島 | C15: =養成施設データ!D58 -> 190 | D15: =養成施設データ!E58 -> 40 | E15: =養成施設データ!F58 -> 0 | F15: =養成施設データ!G58 -> 70 | G15: =養成施設データ!H58 -> 0 | H15: =養成施設データ!I58 -> 0 | I15: =養成施設データ!J58 -> 0 | J15: =養成施設データ!K58 -> 0 | ... U15: =養成施設データ!V58 -> 0 | V15: 0 | W15: =養成施設データ!X58 -> 0 | X15: =養成施設データ!Y58 -> 0 | Y15: 福島
B16: 小計 | C16: =SUM(C10:C15) -> 1644 | D16: =SUM(D10:D15) -> 205 | E16: =SUM(E10:E15) -> 0 | F16: =SUM(F10:F15) -> 446 | G16: =SUM(G10:G15) -> 0 | H16: =SUM(H10:H15) -> 40 | I16: =SUM(I10:I15) -> 0 | J16: =SUM(J10:J15) -> 0 | ... X16: =SUM(X10:X15) -> 0 | Y16: 小計
A17: 関東甲信越 | B17: 茨城 | C17: =養成施設データ!D65 -> 400 | D17: =養成施設データ!E65 -> 80 | E17: =養成施設データ!F65 -> 0 | F17: =養成施設データ!G65 -> 180 | G17: =養成施設データ!H65 -> 0 | H17: =養成施設データ!I65 -> 100 | I17: =養成施設データ!J65 -> 0 | J17: =養成施設データ!K65 -> 0 | ... U17: =養成施設データ!V65 -> 0 | V17: 0 | W17: =養成施設データ!X65 -> 0 | X17: =養成施設データ!Y65 -> 0 | Y17: 茨城 | Z17: 関東甲信越
B18: 栃木 | C18: =養成施設データ!D72 -> 445 | D18: =養成施設データ!E72 -> 100 | E18: =養成施設データ!F72 -> 0 | F18: =養成施設データ!G72 -> 135 | G18: =養成施設データ!H72 -> 0 | H18: =養成施設データ!I72 -> 0 | I18: =養成施設データ!J72 -> 0 | J18: =養成施設データ!K72 -> 0 | ... U18: =養成施設データ!V72 -> 0 | V18: 0 | W18: =養成施設データ!X72 -> 0 | X18: =養成施設データ!Y72 -> 0 | Y18: 栃木
B19: 群馬 | C19: =養成施設データ!D77 -> 360 | D19: =養成施設データ!E77 -> 120 | E19: =養成施設データ!F77 -> 0 | F19: =養成施設データ!G77 -> 160 | G19: =養成施設データ!H77 -> 0 | H19: =養成施設データ!I77 -> 0 | I19: =養成施設データ!J77 -> 0 | J19: =養成施設データ!K77 -> 40 | ... U19: =養成施設データ!V77 -> 0 | V19: 0 | W19: =養成施設データ!X77 -> 0 | X19: =養成施設データ!Y77 -> 0 | Y19: 群馬
B20: 埼玉 | C20: =養成施設データ!D88 -> 780 | D20: =養成施設データ!E88 -> 160 | E20: =養成施設データ!F88 -> 20 | F20: =養成施設データ!G88 -> 160 | G20: =養成施設データ!H88 -> 0 | H20: =養成施設データ!I88 -> 0 | I20: =養成施設データ!J88 -> 0 | J20: =養成施設データ!K88 -> 0 | ... U20: =養成施設データ!V88 -> 40 | V20: 0 | W20: =養成施設データ!X88 -> 0 | X20: =養成施設データ!Y88 -> 0 | Y20: 埼玉
B21: 千葉 | C21: =養成施設データ!D96 -> 630 | D21: =養成施設データ!E96 -> 160 | E21: =養成施設データ!F96 -> 70 | F21: =養成施設データ!G96 -> 160 | G21: =養成施設データ!H96 -> 0 | H21: =養成施設データ!I96 -> 0 | I21: =養成施設データ!J96 -> 0 | J21: =養成施設データ!K96 -> 0 | ... U21: =養成施設データ!V96 -> 0 | V21: 0 | W21: =養成施設データ!X96 -> 0 | X21: =養成施設データ!Y96 -> 0 | Y21: 千葉
B22: 神奈川 | C22: =養成施設データ!D103 -> 600 | D22: =養成施設データ!E103 -> 190 | E22: =養成施設データ!F103 -> 0 | F22: =養成施設データ!G103 -> 110 | G22: =養成施設データ!H103 -> 0 | H22: =養成施設データ!I103 -> 100 | I22: =養成施設データ!J103 -> 80 | J22: =養成施設データ!K103 -> 0 | ... U22: =養成施設データ!V103 -> 0 | V22: 0 | W22: =養成施設データ!X103 -> 0 | X22: =養成施設データ!Y103 -> 0 | Y22: 神奈川
B23: 新潟 | C23: =養成施設データ!D111 -> 665 | D23: =養成施設データ!E111 -> 190 | E23: =養成施設データ!F111 -> 0 | F23: =養成施設データ!G111 -> 430 | G23: =養成施設データ!H111 -> 0 | H23: =養成施設データ!I111 -> 5 | I23: =養成施設データ!J111 -> 0 | J23: =養成施設データ!K111 -> 0 | ... U23: =養成施設データ!V111 -> 0 | V23: 0 | W23: =養成施設データ!X111 -> 0 | X23: =養成施設データ!Y111 -> 0 | Y23: 新潟
B24: 山梨 | C24: =養成施設データ!D113 -> 60 | D24: =養成施設データ!E113 -> 30 | E24: =養成施設データ!F113 -> 0 | F24: =養成施設データ!G113 -> 30 | G24: =養成施設データ!H113 -> 0 | H24: =養成施設データ!I113 -> 0 | I24: =養成施設データ!J113 -> 0 | J24: =養成施設データ!K113 -> 0 | ... U24: =養成施設データ!V113 -> 0 | V24: 0 | W24: =養成施設データ!X113 -> 0 | X24: =養成施設データ!Y113 -> 0 | Y24: 山梨
B25: 長野 | C25: =養成施設データ!D117 -> 330 | D25: =養成施設データ!E117 -> 120 | E25: =養成施設データ!F117 -> 0 | F25: =養成施設データ!G117 -> 130 | G25: =養成施設データ!H117 -> 0 | H25: =養成施設データ!I117 -> 0 | I25: =養成施設データ!J117 -> 0 | J25: =養成施設データ!K117 -> 0 | ... U25: =養成施設データ!V117 -> 0 | V25: 0 | W25: =養成施設データ!X117 -> 0 | X25: =養成施設データ!Y117 -> 0 | Y25: 長野
B26: 小計 | C26: =SUM(C17:C25) -> 4270 | D26: =SUM(D17:D25) -> 1150 | E26: =SUM(E17:E25) -> 90 | F26: =SUM(F17:F25) -> 1495 | G26: =SUM(G17:G25) -> 0 | H26: =SUM(H17:H25) -> 205 | I26: =SUM(I17:I25) -> 80 | J26: =SUM(J17:J25) -> 40 | ... X26: =SUM(X17:X25) -> 0 | Y26: 小計
A27: 東京 | B27: 東京 | C27: =養成施設データ!D152 -> 4261 | D27: =養成施設データ!E152 -> 1270 | E27: =養成施設データ!F152 -> 200 | F27: =養成施設データ!G152 -> 1717 | G27: =養成施設データ!H152 -> 60 | H27: =養成施設データ!I152 -> 94 | I27: =養成施設データ!J152 -> 208 | J27: =養成施設データ!K152 -> 40 | ... U27: =養成施設データ!V152 -> 0 | V27: 0 | W27: =養成施設データ!X152 -> 40 | X27: =養成施設データ!Y152 -> 0 | Y27: 東京 | Z27: 東京
B28: 小計 | C28: =SUM(C27) -> 4261 | D28: =SUM(D27) -> 1270 | E28: =SUM(E27) -> 200 | F28: =SUM(F27) -> 1717 | G28: =SUM(G27) -> 60 | H28: =SUM(H27) -> 94 | I28: =SUM(I27) -> 208 | J28: =SUM(J27) -> 40 | ... X28: =SUM(X27) -> 0 | Y28: 小計
A29: 東海北陸 | B29: 富山 | C29: =養成施設データ!D159 -> 120 | D29: =養成施設データ!E159 -> 0 | E29: =養成施設データ!F159 -> 0 | F29: =養成施設データ!G159 -> 40 | G29: =養成施設データ!H159 -> 0 | H29: =養成施設データ!I159 -> 0 | I29: =養成施設データ!J159 -> 20 | J29: =養成施設データ!K159 -> 0 | ... U29: =養成施設データ!V159 -> 0 | V29: 0 | W29: =養成施設データ!X159 -> 0 | X29: =養成施設データ!Y159 -> 0 | Y29: 富山 | Z29: 東海北陸
B30: 石川 | C30: =養成施設データ!D164 -> 230 | D30: =養成施設データ!E164 -> 120 | E30: =養成施設データ!F164 -> 0 | F30: =養成施設データ!G164 -> 80 | G30: =養成施設データ!H164 -> 0 | H30: =養成施設データ!I164 -> 0 | I30: =養成施設データ!J164 -> 0 | J30: =養成施設データ!K164 -> 0 | ... U30: =養成施設データ!V164 -> 0 | V30: 0 | W30: =養成施設データ!X164 -> 0 | X30: =養成施設データ!Y164 -> 0 | Y30: 石川
B31: 福井 | C31: =養成施設データ!D169 -> 192 | D31: =養成施設データ!E169 -> 80 | E31: =養成施設データ!F169 -> 0 | F31: =養成施設データ!G169 -> 0 | G31: =養成施設データ!H169 -> 0 | H31: =養成施設データ!I169 -> 40 | I31: =養成施設データ!J169 -> 0 | J31: =養成施設データ!K169 -> 0 | ... U31: =養成施設データ!V169 -> 0 | V31: 0 | W31: =養成施設データ!X169 -> 0 | X31: =養成施設データ!Y169 -> 0 | Y31: 福井
B32: 岐阜 | C32: =養成施設データ!D174 -> 330 | D32: =養成施設データ!E174 -> 40 | E32: =養成施設データ!F174 -> 80 | F32: =養成施設データ!G174 -> 40 | G32: =養成施設データ!H174 -> 0 | H32: =養成施設データ!I174 -> 0 | I32: =養成施設データ!J174 -> 0 | J32: =養成施設データ!K174 -> 0 | ... U32: =養成施設データ!V174 -> 0 | V32: 0 | W32: =養成施設データ!X174 -> 0 | X32: =養成施設データ!Y174 -> 0 | Y32: 岐阜
B33: 静岡 | C33: =養成施設データ!D182 -> 570 | D33: =養成施設データ!E182 -> 140 | E33: =養成施設データ!F182 -> 0 | F33: =養成施設データ!G182 -> 300 | G33: =養成施設データ!H182 -> 0 | H33: =養成施設データ!I182 -> 40 | I33: =養成施設データ!J182 -> 0 | J33: =養成施設データ!K182 -> 0 | ... U33: =養成施設データ!V182 -> 0 | V33: 0 | W33: =養成施設データ!X182 -> 0 | X33: =養成施設データ!Y182 -> 0 | Y33: 静岡
B34: 愛知 | C34: =養成施設データ!D198 -> 1485 | D34: =養成施設データ!E198 -> 320 | E34: =養成施設データ!F198 -> 0 | F34: =養成施設データ!G198 -> 555 | G34: =養成施設データ!H198 -> 0 | H34: =養成施設データ!I198 -> 0 | I34: =養成施設データ!J198 -> 0 | J34: =養成施設データ!K198 -> 70 | ... U34: =養成施設データ!V198 -> 0 | V34: 0 | W34: =養成施設データ!X198 -> 0 | X34: =養成施設データ!Y198 -> 0 | Y34: 愛知
B35: 三重 | C35: =養成施設データ!D203 -> 200 | D35: =養成施設データ!E203 -> 70 | E35: =養成施設データ!F203 -> 0 | F35: =養成施設データ!G203 -> 70 | G35: =養成施設データ!H203 -> 0 | H35: =養成施設データ!I203 -> 40 | I35: =養成施設データ!J203 -> 0 | J35: =養成施設データ!K203 -> 0 | ... U35: =養成施設データ!V203 -> 0 | V35: 0 | W35: =養成施設データ!X203 -> 0 | X35: =養成施設データ!Y203 -> 0 | Y35: 三重
B36: 小計 | C36: =SUM(C29:C35) -> 3127 | D36: =SUM(D29:D35) -> 770 | E36: =SUM(E29:E35) -> 80 | F36: =SUM(F29:F35) -> 1085 | G36: =SUM(G29:G35) -> 0 | H36: =SUM(H29:H35) -> 120 | I36: =SUM(I29:I35) -> 20 | J36: =SUM(J29:J35) -> 70 | ... X36: =SUM(X29:X35) -> 0 | Y36: 小計
A37: 近畿中国四国 | B37: 滋賀 | C37: =養成施設データ!D209 -> 75 | D37: =養成施設データ!E209 -> 0 | E37: =養成施設データ!F209 -> 0 | F37: =養成施設データ!G209 -> 0 | G37: =養成施設データ!H209 -> 0 | H37: =養成施設データ!I209 -> 0 | I37: =養成施設データ!J209 -> 0 | J37: =養成施設データ!K209 -> 0 | ... V37: =養成施設データ!W209 -> 0 | W37: 0 | X37: =養成施設データ!X209 -> 0 | Y37: 滋賀 | Z37: 近畿中国四国
B38: 京都 | C38: =養成施設データ!D212 -> 390 | D38: =養成施設データ!E212 -> 120 | E38: =養成施設データ!F212 -> 0 | F38: =養成施設データ!G212 -> 150 | G38: =養成施設データ!H212 -> 0 | H38: =養成施設データ!I212 -> 0 | I38: =養成施設データ!J212 -> 40 | J38: =養成施設データ!K212 -> 0 | ... X38: =養成施設データ!Y212 -> 0 | Y38: 京都
B39: 大阪 | C39: =養成施設データ!D224 -> 1310 | D39: =養成施設データ!E224 -> 380 | E39: =養成施設データ!F224 -> 0 | F39: =養成施設データ!G224 -> 560 | G39: =養成施設データ!H224 -> 40 | H39: =養成施設データ!I224 -> 0 | I39: =養成施設データ!J224 -> 0 | J39: =養成施設データ!K224 -> 0 | ... X39: =養成施設データ!Y224 -> 0 | Y39: 大阪
B40: 兵庫 | C40: =養成施設データ!D231 -> 600 | D40: =養成施設データ!E231 -> 180 | E40: =養成施設データ!F231 -> 0 | F40: =養成施設データ!G231 -> 115 | G40: =養成施設データ!H231 -> 0 | H40: =養成施設データ!I231 -> 75 | I40: =養成施設データ!J231 -> 40 | J40: =養成施設データ!K231 -> 0 | ... X40: =養成施設データ!Y231 -> 0 | Y40: 兵庫
...

Sheet 養成施設データ
C1: 都道府県別養成施設入学定員数
E2: 専修学校 | Q2: 各種学校 | T2: 高等学校 | U2: 短大 | V2: 短期大学 | W2: 大学 | X2: その他 | Z2: 学校群別 | AG2: 設置者別
E3: 専門課程 | I3: 高等課程 | M3: 一般課程 | U3: 別科 | Z3: 専修 | AA3: 各種 | AB3: 高等 | AC3: 短大 | AD3: 短期 | AE3: 大学 | AF3: その他 | AG3: 公立 | AH3: 学校 | AI3: その他 | AJ3: 個人立
E4: １年 | F4: １．５年 | G4: ２年 | H4: ３年 | I4: １年 | J4: １．５年 | K4: ２年 | L4: ３年 | M4: １年 | N4: １．５年 | O4: ２年 | P4: ３年 | Q4: １年 | R4: １．５年 | S4: ２年 | T4: ３年 | U4: １年 | V4: ２年 | W4: ４年 | Z4: 学校 | AA4: 学校 | AB4: 学校 | AC4: 別科 | AD4: 大学 | AH4: 法人立 | AI4: 法人立
B5: ※ | C5: ０１０４ | D5: =SUM(E5:X5) -> 40 | E5: 40 | Z5: 1 | AH5: 1
B6: ※ | C6: ０１０５ | D6: =SUM(E6:X6) -> 40 | T6: 40 | AB6: 1 | AH6: 1
C7: ０１０７ | D7: =SUM(E7:X7) -> 0 | G7: 0 | Z7: 0 | AH7: 0
B8: ※ | C8: ０１０８ | D8: =SUM(E8:X8) -> 90 | E8: 30 | G8: 60 | J8: 0 | Z8: 1 | AH8: 1
B9: ※ | C9: ０１１１ | D9: =SUM(E9:X9) -> 60 | E9: 40 | G9: 20 | I9: 0 | Z9: 1 | AH9: 1
B10: ※ | C10: ０１１２ | D10: =SUM(E10:X10) -> 120 | G10: 120 | Z10: 1 | AH10: 1
B11: ※ | C11: ０１１３ | D11: =SUM(E11:X11) -> 40 | G11: 40 | Z11: 1 | AH11: 1
B12: ※ | C12: ０１１４ | D12: =SUM(E12:X12) -> 76 | T12: 76 | AB12: 1 | AH12: 1
B13: ※ | C13: ０１１５ | D13: =SUM(E13:X13) -> 40 | E13: 40 | Z13: 1 | AH13: 1
B14: ※ | C14: ０１１６ | D14: =SUM(E14:X14) -> 80 | E14: 40 | G14: 40 | Z14: 1 | AH14: 1
C15: ０１１７ | D15: =SUM(E15:X15) -> 100 | E15: 50 | G15: 50 | Z15: 1 | AH15: 1
B16: ※ | C16: ０１１９ | D16: =SUM(E16:X16) -> 40 | G16: 40 | Z16: 1 | AH16: 1
B17: ※ | C17: ０１２０ | D17: =SUM(E17:X17) -> 40 | T17: 40 | AB17: 1 | AH17: 1
B18: ※ | C18: ０１２１ | D18: =SUM(E18:X18) -> 30 | T18: 30 | AB18: 1 | AG18: 1
B19: ※ | C19: ０１２２ | D19: =SUM(E19:X19) -> 20 | T19: 20 | AB19: 1 | AG19: 1
D20: =SUM(D5:D19) -> 816 | E20: =SUM(E5:E19) -> 240 | F20: =SUM(F5:F19) -> 0 | G20: =SUM(G5:G19) -> 370 | H20: =SUM(H5:H19) -> 0 | I20: =SUM(I5:I19) -> 0 | J20: =SUM(J5:J19) -> 0 | K20: =SUM(K5:K19) -> 0 | ... X20: =SUM(X5:X19) -> 0 | Z20: =SUM(Z5:Z19) -> 9 | AA20: =SUM(AA5:AA19) -> 0 | AB20: =SUM(AB5:AB19) -> 5 | AC20: =SUM(AC5:AC19) -> 0 | AD20: =SUM(AD5:AD19) -> 0 | AE20: =SUM(AE5:AE19) -> 0 | AF20: =SUM(AF5:AF19) -> 0 | AG20: =SUM(AG5:AG19) -> 2 | ... AJ20: =SUM(AJ5:AJ19) -> 0
C21: 北海道 | D21: =D20 -> 816 | E21: =E20 -> 240 | F21: =F20 -> 0 | G21: =G20 -> 370 | H21: =H20 -> 0 | I21: =I20 -> 0 | J21: =J20 -> 0 | K21: =K20 -> 0 | ... X21: =X20 -> 0 | Z21: =Z20 -> 9 | AA21: =AA20 -> 0 | AB21: =AB20 -> 5 | AC21: =AC20 -> 0 | AD21: =AD20 -> 0 | AE21: =AE20 -> 0 | AF21: =AF20 -> 0 | AG21: =AG20 -> 2 | ... AJ21: =AJ20 -> 0
B24: ※ | C24: ０２０２ | D24: =SUM(E24:X24) -> 30 | U24: 30 | V24: 0 | AC24: 1 | AD24: 0 | AH24: 1
C25: ０２０３ | D25: =SUM(E25:X25) -> 35 | T25: 35 | AB25: 1 | AH25: 1
B26: ※ | C26: ０２０５ | D26: =SUM(E26:X26) -> 40 | T26: 40 | AB26: 1 | AH26: 1
B27: ※ | C27: ０２０６ | D27: =SUM(E27:X27) -> 40 | T27: 40 | AB27: 1 | AH27: 1
C28: ０２０７ | D28: =SUM(E28:X28) -> 40 | T28: 40 | AB28: 1 | AG28: 1
C29: ０２０８ | D29: =SUM(E29:X29) -> 30 | T29: 30 | AB29: 1 | AH29: 1
C30: 青森 | D30: =SUM(E30:X30) -> 215 | E30: =SUM(E24:E29) -> 0 | F30: =SUM(F24:F29) -> 0 | G30: =SUM(G24:G29) -> 0 | H30: =SUM(H24:H29) -> 0 | I30: =SUM(I24:I29) -> 0 | J30: =SUM(J24:J29) -> 0 | K30: =SUM(K24:K29) -> 0 | L30: =SUM(L24:L29) -> 0 | ... X30: =SUM(X24:X29) -> 0 | Z30: =SUM(Z24:Z29) -> 0 | AA30: =SUM(AA24:AA29) -> 0 | AB30: =SUM(AB24:AB29) -> 5 | AC30: =SUM(AC24:AC29) -> 1 | AD30: =SUM(AD24:AD29) -> 0 | AE30: =SUM(AE24:AE29) -> 0 | AF30: =SUM(AF24:AF29) -> 0 | AG30: =SUM(AG24:AG29) -> 1 | ... AJ30: =SUM(AJ24:AJ29) -> 0
B31: ※ | C31: ０３０３ | D31: =SUM(E31:X31) -> 70 | T31: 70 | AB31: 1 | AH31: 1
C32: ０３０４ | D32: =SUM(E32:X32) -> 35 | T32: 35 | AB32: 1 | AH32: 1
C33: ０３０５ | D33: =SUM(E33:X33) -> 40 | T33: 40 | AB33: 1 | AG33: 1
C34: ０３０６ | D34: =SUM(E34:X34) -> 40 | T34: 40 | AB34: 1 | AG34: 1
B35: ※ | C35: ０３０７ | D35: =SUM(E35:X35) -> 40 | G35: 40 | Z35: 1 | AH35: 1
C36: ０３０８ | D36: =SUM(E36:X36) -> 40 | T36: 40 | AB36: 1 | AG36: 1
B37: ※ | C37: ０３０９ | D37: =SUM(E37:X37) -> 99 | E37: 39 | G37: 60 | Z37: 1 | AI37: 1
C38: ０３１０ | D38: =SUM(E38:X38) -> 60 | T38: 60 | AB38: 1 | AH38: 1
C39: 岩手 | D39: =SUM(D31:D38) -> 424 | E39: =SUM(E31:E38) -> 39 | F39: =SUM(F31:F38) -> 0 | G39: =SUM(G31:G38) -> 100 | H39: =SUM(H31:H38) -> 0 | I39: =SUM(I31:I38) -> 0 | J39: =SUM(J31:J38) -> 0 | K39: =SUM(K31:K38) -> 0 | ... X39: =SUM(X31:X38) -> 0 | Z39: =SUM(Z31:Z38) -> 2 | AA39: =SUM(AA31:AA38) -> 0 | AB39: =SUM(AB31:AB38) -> 6 | AC39: =SUM(AC31:AC38) -> 0 | AD39: =SUM(AD31:AD38) -> 0 | AE39: =SUM(AE31:AE38) -> 0 | AF39: =SUM(AF31:AF38) -> 0 | AG39: =SUM(AG31:AG38) -> 3 | ... AJ39: =SUM(AJ31:AJ38) -> 0
B40: ※ | C40: ０４０１ | D40: =SUM(E40:X40) -> 190 | E40: 70 | G40: 120 | K40: 0 | Z40: 1 | AH40: 1
B41: ※ | C41: ０４０２ | D41: =SUM(E41:X41) -> 105 | T41: 105 | AB41: 1 | AH41: 1
B42: ※ | C42: ０４０４ | D42: =SUM(E42:X42) -> 40 | T42: 40 | AB42: 1 | AG42: 1
...

Sheet C
B3: 都道 府県 | D3: 学校群別 | K3: 設置者別 | P3: 都道 府県 | R3: 学校群別 | Y3: 設置者別
A4: 地区 | C4: 計 | D4: 専修 | E4: 各種 | F4: 高等 | G4: 短大･大学 | H4: 短期 | I4: 大学 | J4: その他 | K4: 公立 | L4: 学校 | M4: その他 | N4: 個人立 | O4: 地区 | Q4: 計 | R4: 専修 | S4: 各種 | T4: 高等 | U4: 短大･大学 | V4: 短期 | W4: 大学 | X4: その他 | Y4: 公立 | Z4: 学校 | AA4: その他 | AB4: 個人立
D5: 学校 | E5: 学校 | F5: 学校 | G5: 別科 | H5: 大学 | L5: 法人立 | M5: 法人立 | R5: 学校 | S5: 学校 | T5: 学校 | U5: 別科 | V5: 大学 | Z5: 法人立 | AA5: 法人立
A6: 北 | B6: 北海道 | C6: =SUM(D6:J6) -> 14 | D6: =SUM(養成施設データ!Z20) -> 9 | E6: =SUM(養成施設データ!AA20) -> 0 | F6: =SUM(養成施設データ!AB20) -> 5 | G6: =SUM(養成施設データ!AC20) -> 0 | H6: =SUM(養成施設データ!AD20) -> 0 | I6: =SUM(養成施設データ!AE20) -> 0 | J6: =SUM(養成施設データ!AF20) -> 0 | K6: =SUM(養成施設データ!AG20) -> 2 | ... N6: =SUM(養成施設データ!AJ20) -> 0 | P6: 滋賀 | Q6: =SUM(R6:X6) -> 2 | R6: =SUM(養成施設データ!Z209) -> 0 | S6: =SUM(養成施設データ!AA209) -> 0 | T6: =SUM(養成施設データ!AB209) -> 2 | U6: =SUM(養成施設データ!AC209) -> 0 | V6: =SUM(養成施設データ!AD209) -> 0 | W6: =SUM(養成施設データ!AE209) -> 0 | X6: =SUM(養成施設データ!AF209) -> 0 | Y6: =SUM(養成施設データ!AG209) -> 0 | ... AB6: =SUM(養成施設データ!AJ209) -> 0
A7: 海 | B7: 小計 | C7: =SUM(D7:J7) -> 14 | D7: =SUM(養成施設データ!Z21) -> 9 | E7: =SUM(養成施設データ!AA21) -> 0 | F7: =SUM(養成施設データ!AB21) -> 5 | G7: =SUM(養成施設データ!AC21) -> 0 | H7: =SUM(養成施設データ!AD21) -> 0 | I7: =SUM(養成施設データ!AE21) -> 0 | J7: =SUM(養成施設データ!AF21) -> 0 | K7: =SUM(養成施設データ!AG21) -> 2 | ... N7: =SUM(養成施設データ!AJ21) -> 0 | O7: 近 | P7: 京都 | Q7: =SUM(R7:X7) -> 2 | R7: =SUM(養成施設データ!Z212) -> 1 | S7: =SUM(養成施設データ!AA212) -> 0 | T7: =SUM(養成施設データ!AB212) -> 1 | U7: =SUM(養成施設データ!AC212) -> 0 | V7: =SUM(養成施設データ!AD212) -> 0 | W7: =SUM(養成施設データ!AE212) -> 0 | X7: =SUM(養成施設データ!AF212) -> 0 | Y7: =SUM(養成施設データ!AG212) -> 0 | ... AB7: =SUM(養成施設データ!AJ212) -> 0
B8: 青森 | C8: =SUM(D8:J8) -> 6 | D8: =SUM(養成施設データ!Z30) -> 0 | E8: =SUM(養成施設データ!AA30) -> 0 | F8: =SUM(養成施設データ!AB30) -> 5 | G8: =SUM(養成施設データ!AC30) -> 1 | H8: =SUM(養成施設データ!AD30) -> 0 | I8: =SUM(養成施設データ!AE30) -> 0 | J8: =SUM(養成施設データ!AF30) -> 0 | K8: =SUM(養成施設データ!AG30) -> 1 | ... N8: =SUM(養成施設データ!AJ30) -> 0 | P8: 大阪 | Q8: =SUM(R8:X8) -> 11 | R8: =SUM(養成施設データ!Z224) -> 4 | S8: =SUM(養成施設データ!AA224) -> 1 | T8: =SUM(養成施設データ!AB224) -> 3 | U8: =SUM(養成施設データ!AC224) -> 0 | V8: =SUM(養成施設データ!AD224) -> 2 | W8: =SUM(養成施設データ!AE224) -> 1 | X8: =SUM(養成施設データ!AF224) -> 0 | Y8: =SUM(養成施設データ!AG224) -> 1 | ... AB8: =SUM(養成施設データ!AJ224) -> 1
A9: 東 | B9: 岩手 | C9: =SUM(D9:J9) -> 8 | D9: =SUM(養成施設データ!Z39) -> 2 | E9: =SUM(養成施設データ!AA39) -> 0 | F9: =SUM(養成施設データ!AB39) -> 6 | G9: =SUM(養成施設データ!AC39) -> 0 | H9: =SUM(養成施設データ!AD39) -> 0 | I9: =SUM(養成施設データ!AE39) -> 0 | J9: =SUM(養成施設データ!AF39) -> 0 | K9: =SUM(養成施設データ!AG39) -> 3 | ... N9: =SUM(養成施設データ!AJ39) -> 0 | O9: 畿 | P9: 兵庫 | Q9: =SUM(R9:X9) -> 6 | R9: =SUM(養成施設データ!Z231) -> 4 | S9: =SUM(養成施設データ!AA231) -> 0 | T9: =SUM(養成施設データ!AB231) -> 2 | U9: =SUM(養成施設データ!AC231) -> 0 | V9: =SUM(養成施設データ!AD231) -> 0 | W9: =SUM(養成施設データ!AE231) -> 0 | X9: =SUM(養成施設データ!AF231) -> 0 | Y9: =SUM(養成施設データ!AG231) -> 1 | ... AB9: =SUM(養成施設データ!AJ231) -> 0
A10: 北 | B10: 宮城 | C10: =SUM(D10:J10) -> 5 | D10: =SUM(養成施設データ!Z45) -> 3 | E10: =SUM(養成施設データ!AA45) -> 0 | F10: =SUM(養成施設データ!AB45) -> 2 | G10: =SUM(養成施設データ!AC45) -> 0 | H10: =SUM(養成施設データ!AD45) -> 0 | I10: =SUM(養成施設データ!AE45) -> 0 | J10: =SUM(養成施設データ!AF45) -> 0 | K10: =SUM(養成施設データ!AG45) -> 1 | ... N10: =SUM(養成施設データ!AJ45) -> 0 | P10: 奈良 | Q10: =SUM(R10:X10) -> 2 | R10: =SUM(養成施設データ!Z234) -> 0 | S10: =SUM(養成施設データ!AA234) -> 0 | T10: =SUM(養成施設データ!AB234) -> 1 | U10: =SUM(養成施設データ!AC234) -> 0 | V10: =SUM(養成施設データ!AD234) -> 0 | W10: =SUM(養成施設データ!AE234) -> 0 | X10: =SUM(養成施設データ!AF234) -> 1 | Y10: =SUM(養成施設データ!AG234) -> 1 | ... AB10: =SUM(養成施設データ!AJ234) -> 0
A11: 地 | B11: 秋田 | C11: =SUM(D11:J11) -> 1 | D11: =SUM(養成施設データ!Z47) -> 0 | E11: =SUM(養成施設データ!AA47) -> 0 | F11: =SUM(養成施設データ!AB47) -> 1 | G11: =SUM(養成施設データ!AC47) -> 0 | H11: =SUM(養成施設データ!AD47) -> 0 | I11: =SUM(養成施設データ!AE47) -> 0 | J11: =SUM(養成施設データ!AF47) -> 0 | K11: =SUM(養成施設データ!AG47) -> 0 | ... N11: =SUM(養成施設データ!AJ47) -> 0 | O11: 中 | P11: 和歌山 | Q11: =SUM(R11:X11) -> 1 | R11: =SUM(養成施設データ!Z236) -> 0 | S11: =SUM(養成施設データ!AA236) -> 0 | T11: =SUM(養成施設データ!AB236) -> 1 | U11: =SUM(養成施設データ!AC236) -> 0 | V11: =SUM(養成施設データ!AD236) -> 0 | W11: =SUM(養成施設データ!AE236) -> 0 | X11: =SUM(養成施設データ!AF236) -> 0 | Y11: =SUM(養成施設データ!AG236) -> 1 | ... AB11: =SUM(養成施設データ!AJ236) -> 0
A12: 区 | B12: 山形 | C12: =SUM(D12:J12) -> 5 | D12: =SUM(養成施設データ!Z53) -> 2 | E12: =SUM(養成施設データ!AA53) -> 0 | F12: =SUM(養成施設データ!AB53) -> 3 | G12: =SUM(養成施設データ!AC53) -> 0 | H12: =SUM(養成施設データ!AD53) -> 0 | I12: =SUM(養成施設データ!AE53) -> 0 | J12: =SUM(養成施設データ!AF53) -> 0 | K12: =SUM(養成施設データ!AG53) -> 1 | ... N12: =SUM(養成施設データ!AJ53) -> 0 | P12: 鳥取 | Q12: =SUM(R12:X12) -> 2 | R12: =SUM(養成施設データ!Z239) -> 0 | S12: =SUM(養成施設データ!AA239) -> 0 | T12: =SUM(養成施設データ!AB239) -> 2 | U12: =SUM(養成施設データ!AC239) -> 0 | V12: =SUM(養成施設データ!AD239) -> 0 | W12: =SUM(養成施設データ!AE239) -> 0 | X12: =SUM(養成施設データ!AF239) -> 0 | Y12: =SUM(養成施設データ!AG239) -> 1 | ... AB12: =SUM(養成施設データ!AJ239) -> 0
B13: 福島 | C13: =SUM(D13:J13) -> 4 | D13: =SUM(養成施設データ!Z58) -> 2 | E13: =SUM(養成施設データ!AA58) -> 0 | F13: =SUM(養成施設データ!AB58) -> 2 | G13: =SUM(養成施設データ!AC58) -> 0 | H13: =SUM(養成施設データ!AD58) -> 0 | I13: =SUM(養成施設データ!AE58) -> 0 | J13: =SUM(養成施設データ!AF58) -> 0 | K13: =SUM(養成施設データ!AG58) -> 0 | ... N13: =SUM(養成施設データ!AJ58) -> 0 | O13: 国 | P13: 島根 | Q13: =SUM(R13:X13) -> 1 | R13: =SUM(養成施設データ!Z241) -> 1 | S13: =SUM(養成施設データ!AA241) -> 0 | T13: =SUM(養成施設データ!AB241) -> 0 | U13: =SUM(養成施設データ!AC241) -> 0 | V13: =SUM(養成施設データ!AD241) -> 0 | W13: =SUM(養成施設データ!AE241) -> 0 | X13: =SUM(養成施設データ!AF241) -> 0 | Y13: =SUM(養成施設データ!AG241) -> 0 | ... AB13: =SUM(養成施設データ!AJ241) -> 0
B14: 小計 | C14: =SUM(C8:C13) -> 29 | D14: =SUM(D8:D13) -> 9 | E14: =SUM(E8:E13) -> 0 | F14: =SUM(F8:F13) -> 19 | G14: =SUM(G8:G13) -> 1 | H14: =SUM(H8:H13) -> 0 | I14: =SUM(I8:I13) -> 0 | J14: =SUM(J8:J13) -> 0 | ... N14: =SUM(N8:N13) -> 0 | P14: 岡山 | Q14: =SUM(R14:X14) -> 4 | R14: =SUM(養成施設データ!Z246) -> 2 | S14: =SUM(養成施設データ!AA246) -> 0 | T14: =SUM(養成施設データ!AB246) -> 2 | U14: =SUM(養成施設データ!AC246) -> 0 | V14: =SUM(養成施設データ!AD246) -> 0 | W14: =SUM(養成施設データ!AE246) -> 0 | X14: =SUM(養成施設データ!AF246) -> 0 | Y14: =SUM(養成施設データ!AG246) -> 1 | ... AB14: =SUM(養成施設データ!AJ246) -> 0
B15: 茨城 | C15: =SUM(D15:J15) -> 3 | D15: =SUM(養成施設データ!Z65) -> 3 | E15: =SUM(養成施設データ!AA65) -> 0 | F15: =SUM(養成施設データ!AB65) -> 0 | G15: =SUM(養成施設データ!AC65) -> 0 | H15: =SUM(養成施設データ!AD65) -> 0 | I15: =SUM(養成施設データ!AE65) -> 0 | J15: =SUM(養成施設データ!AF65) -> 0 | K15: =SUM(養成施設データ!AG65) -> 0 | ... N15: =SUM(養成施設データ!AJ65) -> 0 | O15: 四 | P15: 広島 | Q15: =SUM(R15:X15) -> 5 | R15: =SUM(養成施設データ!Z252) -> 2 | S15: =SUM(養成施設データ!AA252) -> 0 | T15: =SUM(養成施設データ!AB252) -> 2 | U15: =SUM(養成施設データ!AC252) -> 0 | V15: =SUM(養成施設データ!AD252) -> 1 | W15: =SUM(養成施設データ!AE252) -> 0 | X15: =SUM(養成施設データ!AF252) -> 0 | Y15: =SUM(養成施設データ!AG252) -> 1 | ... AB15: =SUM(養成施設データ!AJ252) -> 0
B16: 栃木 | C16: =SUM(D16:J16) -> 6 | D16: =SUM(養成施設データ!Z72) -> 3 | E16: =SUM(養成施設データ!AA72) -> 0 | F16: =SUM(養成施設データ!AB72) -> 3 | G16: =SUM(養成施設データ!AC72) -> 0 | H16: =SUM(養成施設データ!AD72) -> 0 | I16: =SUM(養成施設データ!AE72) -> 0 | J16: =SUM(養成施設データ!AF72) -> 0 | K16: =SUM(養成施設データ!AG72) -> 1 | ... N16: =SUM(養成施設データ!AJ72) -> 0 | P16: 山口 | Q16: =SUM(R16:X16) -> 5 | R16: =SUM(養成施設データ!Z258) -> 1 | S16: =SUM(養成施設データ!AA258) -> 0 | T16: =SUM(養成施設データ!AB258) -> 4 | U16: =SUM(養成施設データ!AC258) -> 0 | V16: =SUM(養成施設データ!AD258) -> 0 | W16: =SUM(養成施設データ!AE258) -> 0 | X16: =SUM(養成施設データ!AF258) -> 0 | Y16: =SUM(養成施設データ!AG258) -> 0 | ... AB16: =SUM(養成施設データ!AJ258) -> 0
A17: 関 | B17: 群馬 | C17: =SUM(D17:J17) -> 4 | D17: =SUM(養成施設データ!Z77) -> 3 | E17: =SUM(養成施設データ!AA77) -> 0 | F17: =SUM(養成施設データ!AB77) -> 1 | G17: =SUM(養成施設データ!AC77) -> 0 | H17: =SUM(養成施設データ!AD77) -> 0 | I17: =SUM(養成施設データ!AE77) -> 0 | J17: =SUM(養成施設データ!AF77) -> 0 | K17: =SUM(養成施設データ!AG77) -> 0 | ... N17: =SUM(養成施設データ!AJ77) -> 0 | O17: 国 | P17: 徳島 | Q17: =SUM(R17:X17) -> 3 | R17: =SUM(養成施設データ!Z262) -> 2 | S17: =SUM(養成施設データ!AA262) -> 0 | T17: =SUM(養成施設データ!AB262) -> 1 | U17: =SUM(養成施設データ!AC262) -> 0 | V17: =SUM(養成施設データ!AD262) -> 0 | W17: =SUM(養成施設データ!AE262) -> 0 | X17: =SUM(養成施設データ!AF262) -> 0 | Y17: =SUM(養成施設データ!AG262) -> 1 | ... AB17: =SUM(養成施設データ!AJ262) -> 0
A18: 東 | B18: 埼玉 | C18: =SUM(D18:J18) -> 10 | D18: =SUM(養成施設データ!Z88) -> 3 | E18: =SUM(養成施設データ!AA88) -> 0 | F18: =SUM(養成施設データ!AB88) -> 6 | G18: (1) | H18: =SUM(養成施設データ!AD88) -> 1 | I18: =SUM(養成施設データ!AE88) -> 0 | J18: =SUM(養成施設データ!AF88) -> 0 | K18: =SUM(養成施設データ!AG88) -> 3 | L18: =SUM(養成施設データ!AH88) -> 7 | M18: =SUM(養成施設データ!AI88) -> 0 | N18: =SUM(養成施設データ!AJ88) -> 0 | P18: 香川 | Q18: =SUM(R18:X18) -> 3 | R18: =SUM(養成施設データ!Z266) -> 1 | S18: =SUM(養成施設データ!AA266) -> 0 | T18: =SUM(養成施設データ!AB266) -> 2 | U18: =SUM(養成施設データ!AC266) -> 0 | V18: =SUM(養成施設データ!AD266) -> 0 | W18: =SUM(養成施設データ!AE266) -> 0 | X18: =SUM(養成施設データ!AF266) -> 0 | Y18: =SUM(養成施設データ!AG266) -> 1 | ... AB18: =SUM(養成施設データ!AJ266) -> 0
A19: 甲 | B19: 千葉 | C19: =SUM(D19:J19) -> 7 | D19: =SUM(養成施設データ!Z96) -> 4 | E19: =SUM(養成施設データ!AA96) -> 0 | F19: =SUM(養成施設データ!AB96) -> 3 | G19: =SUM(養成施設データ!AC96) -> 0 | H19: =SUM(養成施設データ!AD96) -> 0 | I19: =SUM(養成施設データ!AE96) -> 0 | J19: =SUM(養成施設データ!AF96) -> 0 | K19: =SUM(養成施設データ!AG96) -> 2 | ... N19: =SUM(養成施設データ!AJ96) -> 0 | O19: 地 | P19: 愛媛 | Q19: =SUM(R19:X19) -> 5 | R19: =SUM(養成施設データ!Z272) -> 2 | S19: =SUM(養成施設データ!AA272) -> 0 | T19: =SUM(養成施設データ!AB272) -> 2 | U19: =SUM(養成施設データ!AC272) -> 0 | V19: =SUM(養成施設データ!AD272) -> 1 | W19: =SUM(養成施設データ!AE272) -> 0 | X19: =SUM(養成施設データ!AF272) -> 0 | Y19: =SUM(養成施設データ!AG272) -> 0 | ... AB19: =SUM(養成施設データ!AJ272) -> 0
A20: 信 | B20: 神奈川 | C20: =SUM(D20:J20) -> 6 | D20: =SUM(養成施設データ!Z103) -> 6 | E20: =SUM(養成施設データ!AA103) -> 0 | F20: =SUM(養成施設データ!AB103) -> 0 | G20: =SUM(養成施設データ!AC103) -> 0 | H20: =SUM(養成施設データ!AD103) -> 0 | I20: =SUM(養成施設データ!AE103) -> 0 | J20: =SUM(養成施設データ!AF103) -> 0 | K20: =SUM(養成施設データ!AG103) -> 0 | ... N20: =SUM(養成施設データ!AJ103) -> 0 | P20: 高知 | Q20: =SUM(R20:X20) -> 2 | R20: =SUM(養成施設データ!Z275) -> 2 | S20: =SUM(養成施設データ!AA275) -> 0 | T20: =SUM(養成施設データ!AB275) -> 0 | U20: =SUM(養成施設データ!AC275) -> 0 | V20: =SUM(養成施設データ!AD275) -> 0 | W20: =SUM(養成施設データ!AE275) -> 0 | X20: =SUM(養成施設データ!AF275) -> 0 | Y20: =SUM(養成施設データ!AG275) -> 0 | ... AB20: =SUM(養成施設データ!AJ275) -> 0
A21: 越 | B21: 新潟 | C21: =SUM(D21:J21) -> 7 | D21: =SUM(養成施設データ!Z111) -> 6 | E21: =SUM(養成施設データ!AA111) -> 0 | F21: =SUM(養成施設データ!AB111) -> 1 | G21: =SUM(養成施設データ!AC111) -> 0 | H21: =SUM(養成施設データ!AD111) -> 0 | I21: =SUM(養成施設データ!AE111) -> 0 | J21: =SUM(養成施設データ!AF111) -> 0 | K21: =SUM(養成施設データ!AG111) -> 1 | ... N21: =SUM(養成施設データ!AJ111) -> 0 | O21: 区 | P21: 小計 | Q21: =SUM(Q6:Q20) -> 54 | R21: =SUM(R6:R20) -> 22 | S21: =SUM(S6:S20) -> 1 | T21: =SUM(T6:T20) -> 25 | U21: =SUM(U6:U20) -> 0 | V21: =SUM(V6:V20) -> 4 | W21: =SUM(W6:W20) -> 1 | X21: =SUM(X6:X20) -> 1 | ... AB21: =SUM(AB6:AB20) -> 1
A22: 地 | B22: 山梨 | C22: =SUM(D22:J22) -> 1 | D22: =SUM(養成施設データ!Z113) -> 1 | E22: =SUM(養成施設データ!AA113) -> 0 | F22: =SUM(養成施設データ!AB113) -> 0 | G22: =SUM(養成施設データ!AC113) -> 0 | H22: =SUM(養成施設データ!AD113) -> 0 | I22: =SUM(養成施設データ!AE113) -> 0 | J22: =SUM(養成施設データ!AF113) -> 0 | K22: =SUM(養成施設データ!AG113) -> 0 | ... N22: =SUM(養成施設データ!AJ113) -> 0 | P22: 福岡 | Q22: =SUM(R22:X22) -> 13 | R22: =SUM(養成施設データ!Z292) -> 4 | S22: =SUM(養成施設データ!AA292) -> 0 | T22: =SUM(養成施設データ!AB292) -> 8 | U22: =SUM(養成施設データ!AC292) -> 0 | V22: =SUM(養成施設データ!AD292) -> 1 | W22: =SUM(養成施設データ!AE292) -> 0 | X22: =SUM(養成施設データ!AF292) -> 0 | Y22: =SUM(養成施設データ!AG292) -> 2 | ... AB22: =SUM(養成施設データ!AJ292) -> 0
A23: 区 | B23: 長野 | C23: =SUM(D23:J23) -> 3 | D23: =SUM(養成施設データ!Z117) -> 2 | E23: =SUM(養成施設データ!AA117) -> 0 | F23: =SUM(養成施設データ!AB117) -> 1 | G23: =SUM(養成施設データ!AC117) -> 0 | H23: =SUM(養成施設データ!AD117) -> 0 | I23: =SUM(養成施設データ!AE117) -> 0 | J23: =SUM(養成施設データ!AF117) -> 0 | K23: =SUM(養成施設データ!AG117) -> 0 | ... N23: =SUM(養成施設データ!AJ117) -> 0 | O23: 九 | P23: 佐賀 | Q23: =SUM(R23:X23) -> 4 | R23: =SUM(養成施設データ!Z297) -> 1 | S23: =SUM(養成施設データ!AA297) -> 0 | T23: =SUM(養成施設データ!AB297) -> 3 | U23: =SUM(養成施設データ!AC297) -> 0 | V23: =SUM(養成施設データ!AD297) -> 0 | W23: =SUM(養成施設データ!AE297) -> 0 | X23: =SUM(養成施設データ!AF297) -> 0 | Y23: =SUM(養成施設データ!AG297) -> 2 | ... AB23: =SUM(養成施設データ!AJ297) -> 0
B24: 小計 | C24: =SUM(C15:C23) -> 47 | D24: =SUM(D15:D23) -> 31 | E24: =SUM(E15:E23) -> 0 | F24: =SUM(F15:F23) -> 15 | G24: (1) | H24: =SUM(H15:H23) -> 1 | I24: =SUM(I15:I23) -> 0 | J24: =SUM(J15:J23) -> 0 | K24: =SUM(K15:K23) -> 7 | L24: =SUM(L15:L23) -> 40 | M24: =SUM(M15:M23) -> 0 | N24: =SUM(N15:N23) -> 0 | P24: 長崎 | Q24: =SUM(R24:X24) -> 4 | R24: =SUM(養成施設データ!Z302) -> 1 | S24: =SUM(養成施設データ!AA302) -> 0 | T24: =SUM(養成施設データ!AB302) -> 3 | U24: =SUM(養成施設データ!AC302) -> 0 | V24: =SUM(養成施設データ!AD302) -> 0 | W24: =SUM(養成施設データ!AE302) -> 0 | X24: =SUM(養成施設データ!AF302) -> 0 | Y24: =SUM(養成施設データ!AG302) -> 0 | ... AB24: =SUM(養成施設データ!AJ302) -> 0
A25: 東 | B25: 東京 | C25: =SUM(D25:J25) -> 31 | D25: =SUM(養成施設データ!Z152) -> 26 | E25: =SUM(養成施設データ!AA152) -> 0 | F25: =SUM(養成施設データ!AB152) -> 4 | G25: =SUM(養成施設データ!AC152) -> 0 | H25: =SUM(養成施設データ!AD152) -> 0 | I25: =SUM(養成施設データ!AE152) -> 0 | J25: =SUM(養成施設データ!AF152) -> 1 | K25: =SUM(養成施設データ!AG152) -> 4 | ... N25: =SUM(養成施設データ!AJ152) -> 1 | O25: 州 | P25: 熊本 | Q25: =SUM(R25:X25) -> 5 | R25: =SUM(養成施設データ!Z308) -> 2 | S25: =SUM(養成施設データ!AA308) -> 0 | T25: =SUM(養成施設データ!AB308) -> 3 | U25: =SUM(養成施設データ!AC308) -> 0 | V25: =SUM(養成施設データ!AD308) -> 0 | W25: =SUM(養成施設データ!AE308) -> 0 | X25: =SUM(養成施設データ!AF308) -> 0 | Y25: =SUM(養成施設データ!AG308) -> 0 | ... AB25: =SUM(養成施設データ!AJ308) -> 0
A26: 京 | B26: 小計 | C26: =SUM(C25) -> 31 | D26: =SUM(D25) -> 26 | E26: =SUM(E25) -> 0 | F26: =SUM(F25) -> 4 | G26: =SUM(G25) -> 0 | H26: =SUM(H25) -> 0 | I26: =SUM(I25) -> 0 | J26: =SUM(J25) -> 1 | ... N26: =SUM(N25) -> 1 | P26: 大分 | Q26: =SUM(R26:X26) -> 7 | R26: =SUM(養成施設データ!Z316) -> 2 | S26: =SUM(養成施設データ!AA316) -> 0 | T26: =SUM(養成施設データ!AB316) -> 5 | U26: =SUM(養成施設データ!AC316) -> 0 | V26: =SUM(養成施設データ!AD316) -> 0 | W26: =SUM(養成施設データ!AE316) -> 0 | X26: =SUM(養成施設データ!AF316) -> 0 | Y26: =SUM(養成施設データ!AG316) -> 0 | ... AB26: =SUM(養成施設データ!AJ316) -> 0
B27: 富山 | C27: =SUM(D27:J27) -> 3 | D27: =SUM(養成施設データ!Z159) -> 1 | E27: =SUM(養成施設データ!AA159) -> 1 | F27: =SUM(養成施設データ!AB159) -> 1 | G27: =SUM(養成施設データ!AC159) -> 0 | H27: =SUM(養成施設データ!AD159) -> 0 | I27: =SUM(養成施設データ!AE159) -> 0 | J27: =SUM(養成施設データ!AF159) -> 0 | K27: =SUM(養成施設データ!AG159) -> 1 | ... N27: =SUM(養成施設データ!AJ159) -> 0 | O27: 地 | P27: 宮崎 | Q27: =SUM(R27:X27) -> 6 | R27: =SUM(養成施設データ!Z323) -> 1 | S27: =SUM(養成施設データ!AA323) -> 0 | T27: =SUM(養成施設データ!AB323) -> 5 | U27: =SUM(養成施設データ!AC323) -> 0 | V27: =SUM(養成施設データ!AD323) -> 0 | W27: =SUM(養成施設データ!AE323) -> 0 | X27: =SUM(養成施設データ!AF323) -> 0 | Y27: =SUM(養成施設データ!AG323) -> 0 | ... AB27: =SUM(養成施設データ!AJ323) -> 0
A28: 北 | B28: 石川 | C28: =SUM(D28:J28) -> 4 | D28: =SUM(養成施設データ!Z164) -> 3 | E28: =SUM(養成施設データ!AA164) -> 0 | F28: =SUM(養成施設データ!AB164) -> 1 | G28: =SUM(養成施設データ!AC164) -> 0 | H28: =SUM(養成施設データ!AD164) -> 0 | I28: =SUM(養成施設データ!AE164) -> 0 | J28: =SUM(養成施設データ!AF164) -> 0 | K28: =SUM(養成施設データ!AG164) -> 0 | ... N28: =SUM(養成施設データ!AJ164) -> 0 | P28: 鹿児島 | Q28: =SUM(R28:X28) -> 5 | R28: =SUM(養成施設データ!Z329) -> 1 | S28: =SUM(養成施設データ!AA329) -> 0 | T28: =SUM(養成施設データ!AB329) -> 4 | U28: =SUM(養成施設データ!AC329) -> 0 | V28: =SUM(養成施設データ!AD329) -> 0 | W28: =SUM(養成施設データ!AE329) -> 0 | X28: =SUM(養成施設データ!AF329) -> 0 | Y28: =SUM(養成施設データ!AG329) -> 1 | ... AB28: =SUM(養成施設データ!AJ329) -> 0
A29: 陸 | B29: 福井 | C29: =SUM(D29:J29) -> 4 | D29: =SUM(養成施設データ!Z169) -> 2 | E29: =SUM(養成施設データ!AA169) -> 0 | F29: =SUM(養成施設データ!AB169) -> 2 | G29: =SUM(養成施設データ!AC169) -> 0 | H29: =SUM(養成施設データ!AD169) -> 0 | I29: =SUM(養成施設データ!AE169) -> 0 | J29: =SUM(養成施設データ!AF169) -> 0 | K29: =SUM(養成施設データ!AG169) -> 1 | ... N29: =SUM(養成施設データ!AJ169) -> 0 | O29: 区 | P29: 沖縄 | Q29: =SUM(R29:X29) -> 5 | R29: =SUM(養成施設データ!Z335) -> 3 | S29: =SUM(養成施設データ!AA335) -> 0 | T29: =SUM(養成施設データ!AB335) -> 2 | U29: =SUM(養成施設データ!AC335) -> 0 | V29: =SUM(養成施設データ!AD335) -> 0 | W29: =SUM(養成施設データ!AE335) -> 0 | X29: =SUM(養成施設データ!AF335) -> 0 | Y29: =SUM(養成施設データ!AG335) -> 2 | ... AB29: =SUM(養成施設データ!AJ335) -> 0
A30: 東 | B30: 岐阜 | C30: =SUM(D30:J30) -> 4 | D30: =SUM(養成施設データ!Z174) -> 2 | E30: =SUM(養成施設データ!AA174) -> 0 | F30: =SUM(養成施設データ!AB174) -> 2 | G30: =SUM(養成施設データ!AC174) -> 0 | H30: =SUM(養成施設データ!AD174) -> 0 | I30: =SUM(養成施設データ!AE174) -> 0 | J30: =SUM(養成施設データ!AF174) -> 0 | K30: =SUM(養成施設データ!AG174) -> 1 | ... N30: =SUM(養成施設データ!AJ174) -> 0 | P30: 小計 | Q30: =SUM(Q22:Q29) -> 49 | R30: =SUM(R22:R29) -> 15 | S30: =SUM(S22:S29) -> 0 | T30: =SUM(T22:T29) -> 33 | U30: =SUM(U22:U29) -> 0 | V30: =SUM(V22:V29) -> 1 | W30: =SUM(W22:W29) -> 0 | X30: =SUM(X22:X29) -> 0 | ... AB30: =SUM(AB22:AB29) -> 0
A31: 海 | B31: 静岡 | C31: =SUM(D31:J31) -> 7 | D31: =SUM(養成施設データ!Z182) -> 7 | E31: =SUM(養成施設データ!AA182) -> 0 | F31: =SUM(養成施設データ!AB182) -> 0 | G31: =SUM(養成施設データ!AC182) -> 0 | H31: =SUM(養成施設データ!AD182) -> 0 | I31: =SUM(養成施設データ!AE182) -> 0 | J31: =SUM(養成施設データ!AF182) -> 0 | K31: =SUM(養成施設データ!AG182) -> 0 | ... N31: =SUM(養成施設データ!AJ182) -> 0
A32: 地 | B32: 愛知 | C32: =SUM(D32:J32) -> 15 | D32: =SUM(養成施設データ!Z198) -> 12 | E32: =SUM(養成施設データ!AA198) -> 0 | F32: =SUM(養成施設データ!AB198) -> 3 | G32: =SUM(養成施設データ!AC198) -> 0 | H32: =SUM(養成施設データ!AD198) -> 0 | I32: =SUM(養成施設データ!AE198) -> 0 | J32: =SUM(養成施設データ!AF198) -> 0 | K32: =SUM(養成施設データ!AG198) -> 2 | ... N32: =SUM(養成施設データ!AJ198) -> 0 | O32: 合 計 | Q32: =C7+C14+C24+C26+C34+Q21+Q30 -> 265 | R32: =D7+D14+D24+D26+D34+R21+R30 -> 142 | S32: =E7+E14+E24+E26+E34+S21+S30 -> 2 | T32: =F7+F14+F24+F26+F34+T21+T30 -> 111 | U32: =G7+G14+G26+G34+U21+U30 -> 1 | V32: =H7+H14+H24+H26+H34+V21+V30 -> 6 | W32: =I7+I14+I24+I26+I34+W21+W30 -> 1 | X32: =J7+J14+J24+J26+J34+X21+X30 -> 2 | Y32: =K7+K14+K24+K26+K34+Y21+Y30 -> 41 | Z32: =L7+L14+L24+L26+L34+Z21+Z30 -> 218 | AA32: =M7+M14+M24+M26+M34+AA21+AA30 -> 4 | AB32: =N7+N14+N24+N26+N34+AB21+AB30 -> 2
A33: 区 | B33: 三重 | C33: =SUM(D33:J33) -> 4 | D33: =SUM(養成施設データ!Z203) -> 3 | E33: =SUM(養成施設データ!AA203) -> 0 | F33: =SUM(養成施設データ!AB203) -> 1 | G33: =SUM(養成施設データ!AC203) -> 0 | H33: =SUM(養成施設データ!AD203) -> 0 | I33: =SUM(養成施設データ!AE203) -> 0 | J33: =SUM(養成施設データ!AF203) -> 0 | K33: =SUM(養成施設データ!AG203) -> 1 | ... N33: =SUM(養成施設データ!AJ203) -> 0 | O33: （％） | Q33: 1 | R33: =ROUND(R32/$Q32,3) -> 0.536 | S33: =ROUND(S32/$Q32,3) -> 0.008 | T33: =ROUND(T32/$Q32,3) -> 0.419 | U33: =ROUND(U32/$Q32,3) -> 0.004 | V33: =ROUNDDOWN(V32/$Q32,3) -> 0.022 | W33: =ROUND(W32/$Q32,3) -> 0.004 | X33: =ROUND(X32/$Q32,3) -> 0.008 | Y33: =Y32/$Q32 -> 0.15471698 | Z33: =Z32/$Q32 -> 0.82264151 | AA33: =AA32/$Q32 -> 0.01509434 | AB33: =AB32/$Q32 -> 0.0075471698 | AC33: =SUM(R33:X33) -> 1.001
B34: 小計 | C34: =SUM(C27:C33) -> 41 | D34: =SUM(D27:D33) -> 30 | E34: =SUM(E27:E33) -> 1 | F34: =SUM(F27:F33) -> 10 | G34: =SUM(G27:G33) -> 0 | H34: =SUM(H27:H33) -> 0 | I34: =SUM(I27:I33) -> 0 | J34: =SUM(J27:J33) -> 0 | ... N34: =SUM(N27:N33) -> 0
A35: ※（ )は再掲、合計欄には含まないものとする
